BEGIN:VCALENDAR
VERSION:2.0
PRODID:-//Javno komunalno podjetje Grosuplje - ECPv6.9.1//NONSGML v1.0//EN
CALSCALE:GREGORIAN
METHOD:PUBLISH
X-WR-CALNAME:Javno komunalno podjetje Grosuplje
X-ORIGINAL-URL:https://jkpg.si
X-WR-CALDESC:Dogodki za Javno komunalno podjetje Grosuplje
REFRESH-INTERVAL;VALUE=DURATION:PT1H
X-Robots-Tag:noindex
X-PUBLISHED-TTL:PT1H
BEGIN:VTIMEZONE
TZID:Europe/Ljubljana
BEGIN:DAYLIGHT
TZOFFSETFROM:+0100
TZOFFSETTO:+0200
TZNAME:CEST
DTSTART:20260329T010000
END:DAYLIGHT
BEGIN:STANDARD
TZOFFSETFROM:+0200
TZOFFSETTO:+0100
TZNAME:CET
DTSTART:20261025T010000
END:STANDARD
END:VTIMEZONE
BEGIN:VEVENT
DTSTART;VALUE=DATE:20260518
DTEND;VALUE=DATE:20260519
DTSTAMP:20260420T220551
CREATED:20260417T080427Z
LAST-MODIFIED:20260417T080427Z
UID:10008129-1779062400-1779148799@jkpg.si
SUMMARY:Preostanek odpadkov - Občina Ivančna Gorica
DESCRIPTION:KS Ivančna Gorica\, brez naselja Spodnja Draga
URL:https://jkpg.si/vrsta-odvoza/preostanek-odpadkov-obcina-ivancna-gorica-98/
LOCATION:Občina Ivančna Gorica
CATEGORIES:Preostanek odpadkov
END:VEVENT
BEGIN:VEVENT
DTSTART;VALUE=DATE:20260518
DTEND;VALUE=DATE:20260519
DTSTAMP:20260420T220551
CREATED:20260417T080427Z
LAST-MODIFIED:20260417T080427Z
UID:10008130-1779062400-1779148799@jkpg.si
SUMMARY:Preostanek odpadkov - Občina Dobrepolje
DESCRIPTION:Vsa naselje v občini razen Hočevja
URL:https://jkpg.si/vrsta-odvoza/preostanek-odpadkov-obcina-dobrepolje-39/
LOCATION:Občina Dobrepolje
CATEGORIES:Preostanek odpadkov
END:VEVENT
BEGIN:VEVENT
DTSTART;VALUE=DATE:20260518
DTEND;VALUE=DATE:20260519
DTSTAMP:20260420T220551
CREATED:20260417T080442Z
LAST-MODIFIED:20260417T080442Z
UID:10008131-1779062400-1779148799@jkpg.si
SUMMARY:Preostanek odpadkov - Občina Grosuplje
DESCRIPTION:Grosuplje; območje severno od Adamičeve c. in zahodno od potoka Grosupeljščica ter naselje Brvace
URL:https://jkpg.si/vrsta-odvoza/preostanek-odpadkov-obcina-grosuplje-111/
LOCATION:Občina Grosuplje
CATEGORIES:Preostanek odpadkov
END:VEVENT
BEGIN:VEVENT
DTSTART;VALUE=DATE:20260518
DTEND;VALUE=DATE:20260519
DTSTAMP:20260420T220551
CREATED:20260417T080442Z
LAST-MODIFIED:20260417T080442Z
UID:10008132-1779062400-1779148799@jkpg.si
SUMMARY:Biološki odpadki - Občina Ivančna Gorica
DESCRIPTION:KS Dob\, KS Šentvid\, KS Stična\, KS Metnaj\, KS Muljava\, KS Krka\, KS Zagradec\, KS Ambrus\, KS Sobtače\, KSTemenica\, KS Višnja Gora – okolica\, brez naselja Višnja Gora.
URL:https://jkpg.si/vrsta-odvoza/bioloski-odpadki-obcina-ivancna-gorica-65/
LOCATION:Občina Ivančna Gorica
CATEGORIES:Biološki odpadki
END:VEVENT
BEGIN:VEVENT
DTSTART;VALUE=DATE:20260518
DTEND;VALUE=DATE:20260519
DTSTAMP:20260420T220551
CREATED:20260417T080442Z
LAST-MODIFIED:20260417T080442Z
UID:10008133-1779062400-1779148799@jkpg.si
SUMMARY:Papir in karton - Občina Grosuplje
DESCRIPTION:KS Grosuplje\, KS Šmarje-Sap
URL:https://jkpg.si/vrsta-odvoza/papir-in-karton-obcina-grosuplje-122/
LOCATION:Občina Grosuplje
CATEGORIES:Papir in karton
END:VEVENT
BEGIN:VEVENT
DTSTART;VALUE=DATE:20260519
DTEND;VALUE=DATE:20260520
DTSTAMP:20260420T220551
CREATED:20260417T080442Z
LAST-MODIFIED:20260417T080442Z
UID:10008134-1779148800-1779235199@jkpg.si
SUMMARY:Preostanek odpadkov - Občina Ivančna Gorica
DESCRIPTION:KS Ambrus\, KS Krka\, KS Višnja Gora\, KS Zagradec\, KS Muljava- brez naselij; Bojavni Vrh\, Velike in Male Kompolje\, Sušica in Trebež
URL:https://jkpg.si/vrsta-odvoza/preostanek-odpadkov-obcina-ivancna-gorica-99/
LOCATION:Občina Ivančna Gorica
CATEGORIES:Preostanek odpadkov
END:VEVENT
BEGIN:VEVENT
DTSTART;VALUE=DATE:20260519
DTEND;VALUE=DATE:20260520
DTSTAMP:20260420T220551
CREATED:20260417T080442Z
LAST-MODIFIED:20260417T080442Z
UID:10008135-1779148800-1779235199@jkpg.si
SUMMARY:Preostanek odpadkov - Občina Dobrepolje
DESCRIPTION:Naselje Hočevje
URL:https://jkpg.si/vrsta-odvoza/preostanek-odpadkov-obcina-dobrepolje-40/
LOCATION:Občina Dobrepolje
CATEGORIES:Preostanek odpadkov
END:VEVENT
BEGIN:VEVENT
DTSTART;VALUE=DATE:20260519
DTEND;VALUE=DATE:20260520
DTSTAMP:20260420T220551
CREATED:20260417T080643Z
LAST-MODIFIED:20260417T080643Z
UID:10008136-1779148800-1779235199@jkpg.si
SUMMARY:Biološki odpadki - Občina Grosuplje
DESCRIPTION:Grosuplje; območje severno od Adamičeve c.\, Perovo\, Jerova vas in Brvace\, brez Metelkovih\, Kajuhovih\, Valavazorjevih dvorov in Preske
URL:https://jkpg.si/vrsta-odvoza/bioloski-odpadki-obcina-grosuplje-126/
LOCATION:Občina Grosuplje
CATEGORIES:Biološki odpadki
END:VEVENT
BEGIN:VEVENT
DTSTART;VALUE=DATE:20260519
DTEND;VALUE=DATE:20260520
DTSTAMP:20260420T220551
CREATED:20260417T080643Z
LAST-MODIFIED:20260417T080643Z
UID:10008137-1779148800-1779235199@jkpg.si
SUMMARY:Steklena embalaža - Občina Ivančna Gorica
DESCRIPTION:Občina Ivančna Gorica
URL:https://jkpg.si/vrsta-odvoza/steklena-embalaza-obcina-ivancna-gorica-20/
LOCATION:Občina Ivančna Gorica
CATEGORIES:Steklena embalaža
END:VEVENT
BEGIN:VEVENT
DTSTART;VALUE=DATE:20260519
DTEND;VALUE=DATE:20260520
DTSTAMP:20260420T220551
CREATED:20260417T080643Z
LAST-MODIFIED:20260417T080643Z
UID:10008138-1779148800-1779235199@jkpg.si
SUMMARY:Preostanek odpadkov - Občina Grosuplje
DESCRIPTION:Grosuplje; območje južno od Adamičeve ceste\, KS Polica –  Mala Stara vas in Velika Stara vas
URL:https://jkpg.si/vrsta-odvoza/preostanek-odpadkov-obcina-grosuplje-112/
LOCATION:Občina Grosuplje
CATEGORIES:Preostanek odpadkov
END:VEVENT
BEGIN:VEVENT
DTSTART;VALUE=DATE:20260520
DTEND;VALUE=DATE:20260521
DTSTAMP:20260420T220551
CREATED:20260417T080643Z
LAST-MODIFIED:20260417T080643Z
UID:10008139-1779235200-1779321599@jkpg.si
SUMMARY:Preostanek odpadkov - Občina Ivančna Gorica
DESCRIPTION:Naselje Spodnja Draga\, KS Dob\, KS Sobrače\, KS Temenica\, KS Muljava – naselja; Bojani Vrh\, Velike in Male Kompolje\, Sušica in Trebež
URL:https://jkpg.si/vrsta-odvoza/preostanek-odpadkov-obcina-ivancna-gorica-100/
LOCATION:Občina Ivančna Gorica
CATEGORIES:Preostanek odpadkov
END:VEVENT
BEGIN:VEVENT
DTSTART;VALUE=DATE:20260520
DTEND;VALUE=DATE:20260521
DTSTAMP:20260420T220551
CREATED:20260417T080643Z
LAST-MODIFIED:20260417T080643Z
UID:10008140-1779235200-1779321599@jkpg.si
SUMMARY:Papir in karton - Občina Ivančna Gorica
DESCRIPTION:Občina Ivančna Gorica
URL:https://jkpg.si/vrsta-odvoza/papir-in-karton-obcina-ivancna-gorica-41/
LOCATION:Občina Ivančna Gorica
CATEGORIES:Papir in karton
END:VEVENT
BEGIN:VEVENT
DTSTART;VALUE=DATE:20260520
DTEND;VALUE=DATE:20260521
DTSTAMP:20260420T220551
CREATED:20260417T080844Z
LAST-MODIFIED:20260417T080844Z
UID:10008141-1779235200-1779321599@jkpg.si
SUMMARY:Biološki odpadki - Občina Ivančna Gorica
DESCRIPTION:KS Ivančna Gorica\, KS Višnja Gora – naselja Višnja Gora
URL:https://jkpg.si/vrsta-odvoza/bioloski-odpadki-obcina-ivancna-gorica-66/
LOCATION:Občina Ivančna Gorica
CATEGORIES:Biološki odpadki
END:VEVENT
BEGIN:VEVENT
DTSTART;VALUE=DATE:20260520
DTEND;VALUE=DATE:20260521
DTSTAMP:20260420T220551
CREATED:20260417T080844Z
LAST-MODIFIED:20260417T080844Z
UID:10008142-1779235200-1779321599@jkpg.si
SUMMARY:Preostanek odpadkov - Občina Grosuplje
DESCRIPTION:KS Grosuplje – okolica; Brezje\, Hrastje\, Gatina\, Sp. Blato\, Praproče \, Sp. Duplice\, Jerova vas\, Perovo in naselje Grosuplje severno od Adamičeve ceste in vzhodno od potoka Grosupeljščica
URL:https://jkpg.si/vrsta-odvoza/preostanek-odpadkov-obcina-grosuplje-113/
LOCATION:Občina Grosuplje
CATEGORIES:Preostanek odpadkov
END:VEVENT
BEGIN:VEVENT
DTSTART;VALUE=DATE:20260520
DTEND;VALUE=DATE:20260521
DTSTAMP:20260420T220551
CREATED:20260417T080844Z
LAST-MODIFIED:20260417T080844Z
UID:10008143-1779235200-1779321599@jkpg.si
SUMMARY:Preostanek odpadkov - Občina Grosuplje
DESCRIPTION:KS Spodnja Slivnica\, KS Šmarje-Sap in KS Račna
URL:https://jkpg.si/vrsta-odvoza/preostanek-odpadkov-obcina-grosuplje-114/
LOCATION:Občina Grosuplje
CATEGORIES:Preostanek odpadkov
END:VEVENT
BEGIN:VEVENT
DTSTART;VALUE=DATE:20260521
DTEND;VALUE=DATE:20260522
DTSTAMP:20260420T220551
CREATED:20260417T080844Z
LAST-MODIFIED:20260417T080844Z
UID:10008144-1779321600-1779407999@jkpg.si
SUMMARY:Preostanek odpadkov - Občina Ivančna Gorica
DESCRIPTION:KS Šentvid – brez naselij; Artiža vas\, Glagovica\, Velike Pece in Vrhpolje
URL:https://jkpg.si/vrsta-odvoza/preostanek-odpadkov-obcina-ivancna-gorica-101/
LOCATION:Občina Ivančna Gorica
CATEGORIES:Preostanek odpadkov
END:VEVENT
BEGIN:VEVENT
DTSTART;VALUE=DATE:20260521
DTEND;VALUE=DATE:20260522
DTSTAMP:20260420T220551
CREATED:20260417T080844Z
LAST-MODIFIED:20260417T080844Z
UID:10008145-1779321600-1779407999@jkpg.si
SUMMARY:Papir in karton - Občina Dobrepolje
DESCRIPTION:Občina Dobrepolje
URL:https://jkpg.si/vrsta-odvoza/papir-in-karton-obcina-dobrepolje-42/
LOCATION:Občina Dobrepolje
CATEGORIES:Papir in karton
END:VEVENT
BEGIN:VEVENT
DTSTART;VALUE=DATE:20260521
DTEND;VALUE=DATE:20260522
DTSTAMP:20260420T220551
CREATED:20260417T081045Z
LAST-MODIFIED:20260417T081045Z
UID:10008146-1779321600-1779407999@jkpg.si
SUMMARY:Biološki odpadki - Občina Grosuplje
DESCRIPTION:Grosuplje; območje južno od Adamičeve c.\, Metelkovi\, Kajuhovi\, Valvazorjev dvor ter Preska\, KS Šmarje-Sap; Mali Vrh in Veliki vrh\, Tlake Zgornja Slivnica\, KS Polica-naselje Dole\, M. in V. Stara vas\, KS Spodnja Slivnica\, KS Grosuplje; naselje Gatina\, Sp. Blato\, Praproče\, Brezje pri Grosupljem\, Sončni Dvori\,  KS Polica
URL:https://jkpg.si/vrsta-odvoza/bioloski-odpadki-obcina-grosuplje-127/
LOCATION:Občina Grosuplje
CATEGORIES:Biološki odpadki
END:VEVENT
BEGIN:VEVENT
DTSTART;VALUE=DATE:20260521
DTEND;VALUE=DATE:20260522
DTSTAMP:20260420T220551
CREATED:20260417T081045Z
LAST-MODIFIED:20260417T081045Z
UID:10008149-1779321600-1779407999@jkpg.si
SUMMARY:Papir in karton - Občina Grosuplje
DESCRIPTION:KS Ilova Gora\, KS Mlačevo\, KS Račna\, KS Žalna\, KS Spodnja Slivnica\, KS Škocjan\, KS Št.Jurij\, KS Polica in KS Grosuplje-industrijska cona pod slivniškim hribom
URL:https://jkpg.si/vrsta-odvoza/papir-in-karton-obcina-grosuplje-123/
LOCATION:Občina Grosuplje
CATEGORIES:Papir in karton
END:VEVENT
BEGIN:VEVENT
DTSTART;VALUE=DATE:20260521
DTEND;VALUE=DATE:20260522
DTSTAMP:20260420T220551
CREATED:20260417T081045Z
LAST-MODIFIED:20260417T081045Z
UID:10008147-1779321600-1779407999@jkpg.si
SUMMARY:Biološki odpadki - Občina Grosuplje
DESCRIPTION:KS Polica
URL:https://jkpg.si/vrsta-odvoza/bioloski-odpadki-obcina-grosuplje-128/
LOCATION:Občina Grosuplje
CATEGORIES:Biološki odpadki
END:VEVENT
BEGIN:VEVENT
DTSTART;VALUE=DATE:20260521
DTEND;VALUE=DATE:20260522
DTSTAMP:20260420T220551
CREATED:20260417T081045Z
LAST-MODIFIED:20260417T081045Z
UID:10008148-1779321600-1779407999@jkpg.si
SUMMARY:Preostanek odpadkov - Občina Grosuplje
DESCRIPTION:KS Ilova Gora\, KS Mlačevo\, KS Škocjan\, KS Št. Jurij\, KS Žalna\, KS Polica – naselje Dobje\, Dole pri Polici in Liparjev hrib
URL:https://jkpg.si/vrsta-odvoza/preostanek-odpadkov-obcina-grosuplje-115/
LOCATION:Občina Grosuplje
CATEGORIES:Preostanek odpadkov
END:VEVENT
BEGIN:VEVENT
DTSTART;VALUE=DATE:20260522
DTEND;VALUE=DATE:20260523
DTSTAMP:20260420T220551
CREATED:20260417T081045Z
LAST-MODIFIED:20260417T081045Z
UID:10008150-1779408000-1779494399@jkpg.si
SUMMARY:Preostanek odpadkov - Občina Ivančna Gorica
DESCRIPTION:KS Metnaj\, KS Stična\, KS Šentvid – naselja; Artiža vas\, Glagovica\, Velike Pece in Vrhpolje
URL:https://jkpg.si/vrsta-odvoza/preostanek-odpadkov-obcina-ivancna-gorica-102/
LOCATION:Občina Ivančna Gorica
CATEGORIES:Preostanek odpadkov
END:VEVENT
BEGIN:VEVENT
DTSTART;VALUE=DATE:20260522
DTEND;VALUE=DATE:20260523
DTSTAMP:20260420T220551
CREATED:20260417T081246Z
LAST-MODIFIED:20260417T081246Z
UID:10008151-1779408000-1779494399@jkpg.si
SUMMARY:Preostanek odpadkov - Občina Grosuplje
DESCRIPTION:Grosuplje; večstanovanjske stavbe\, Sončni dvori\, šole\, vrtci\, Zdravstveni dom\, KS Polica – brez naselja Mala Stara vas\, Velika Stara vas\, Dobje\, Dole pri Polici in Liparjev hrib
URL:https://jkpg.si/vrsta-odvoza/preostanek-odpadkov-obcina-grosuplje-116/
LOCATION:Občina Grosuplje
CATEGORIES:Preostanek odpadkov
END:VEVENT
BEGIN:VEVENT
DTSTART;VALUE=DATE:20260522
DTEND;VALUE=DATE:20260523
DTSTAMP:20260420T220551
CREATED:20260417T081246Z
LAST-MODIFIED:20260417T081246Z
UID:10008154-1779408000-1779494399@jkpg.si
SUMMARY:Papir in karton - Občina Grosuplje
DESCRIPTION:KS Šmarje-Sap\, KS Grosuplje – brez industrijske cone pod slivniškim hribom
URL:https://jkpg.si/vrsta-odvoza/papir-in-karton-obcina-grosuplje-124/
LOCATION:Občina Grosuplje
CATEGORIES:Papir in karton
END:VEVENT
BEGIN:VEVENT
DTSTART;VALUE=DATE:20260522
DTEND;VALUE=DATE:20260523
DTSTAMP:20260420T220551
CREATED:20260417T081246Z
LAST-MODIFIED:20260417T081246Z
UID:10008152-1779408000-1779494399@jkpg.si
SUMMARY:Biološki odpadki - Občina Dobrepolje
DESCRIPTION:Vsa naselja v občini
URL:https://jkpg.si/vrsta-odvoza/bioloski-odpadki-obcina-dobrepolje-37/
LOCATION:Občina Dobrepolje
CATEGORIES:Biološki odpadki
END:VEVENT
BEGIN:VEVENT
DTSTART;VALUE=DATE:20260522
DTEND;VALUE=DATE:20260523
DTSTAMP:20260420T220551
CREATED:20260417T081246Z
LAST-MODIFIED:20260417T081246Z
UID:10008153-1779408000-1779494399@jkpg.si
SUMMARY:Biološki odpadki - Občina Grosuplje
DESCRIPTION:KS Šmarje-Sap; Cikava\, Paradišče\, Sela pri Šmarju\, KS Št.Jurij\, KS Škocjan\, KS Mlačevo\, KS Žalna\, KS Račna
URL:https://jkpg.si/vrsta-odvoza/bioloski-odpadki-obcina-grosuplje-129/
LOCATION:Občina Grosuplje
CATEGORIES:Biološki odpadki
END:VEVENT
END:VCALENDAR