BEGIN:VCALENDAR
VERSION:2.0
PRODID:-//Javno komunalno podjetje Grosuplje - ECPv6.9.1//NONSGML v1.0//EN
CALSCALE:GREGORIAN
METHOD:PUBLISH
X-WR-CALNAME:Javno komunalno podjetje Grosuplje
X-ORIGINAL-URL:https://jkpg.si
X-WR-CALDESC:Dogodki za Javno komunalno podjetje Grosuplje
REFRESH-INTERVAL;VALUE=DURATION:PT1H
X-Robots-Tag:noindex
X-PUBLISHED-TTL:PT1H
BEGIN:VTIMEZONE
TZID:Europe/Ljubljana
BEGIN:DAYLIGHT
TZOFFSETFROM:+0100
TZOFFSETTO:+0200
TZNAME:CEST
DTSTART:20260329T010000
END:DAYLIGHT
BEGIN:STANDARD
TZOFFSETFROM:+0200
TZOFFSETTO:+0100
TZNAME:CET
DTSTART:20261025T010000
END:STANDARD
END:VTIMEZONE
BEGIN:VEVENT
DTSTART;VALUE=DATE:20260408
DTEND;VALUE=DATE:20260409
DTSTAMP:20260421T001139
CREATED:20260317T134240Z
LAST-MODIFIED:20260325T090139Z
UID:10007974-1775606400-1775692799@jkpg.si
SUMMARY:Biološki odpadki - Občina Ivančna Gorica
DESCRIPTION:KS Ivančna Gorica\, KS Višnja Gora – naselja Višnja Gora
URL:https://jkpg.si/vrsta-odvoza/bioloski-odpadki-obcina-ivancna-gorica-54/
LOCATION:Občina Ivančna Gorica
CATEGORIES:Biološki odpadki
END:VEVENT
BEGIN:VEVENT
DTSTART;VALUE=DATE:20260408
DTEND;VALUE=DATE:20260409
DTSTAMP:20260421T001139
CREATED:20260317T134240Z
LAST-MODIFIED:20260325T090138Z
UID:10007972-1775606400-1775692799@jkpg.si
SUMMARY:Preostanek odpadkov - Občina Ivančna Gorica
DESCRIPTION:Naselje Spodnja Draga\, KS Dob\, KS Sobrače\, KS Temenica\, KS Muljava – naselja; Bojani Vrh\, Velike in Male Kompolje\, Sušica in Trebež
URL:https://jkpg.si/vrsta-odvoza/preostanek-odpadkov-obcina-ivancna-gorica-85/
LOCATION:Občina Ivančna Gorica
CATEGORIES:Preostanek odpadkov
END:VEVENT
BEGIN:VEVENT
DTSTART;VALUE=DATE:20260408
DTEND;VALUE=DATE:20260409
DTSTAMP:20260421T001139
CREATED:20260317T134240Z
LAST-MODIFIED:20260325T090307Z
UID:10007975-1775606400-1775692799@jkpg.si
SUMMARY:Preostanek odpadkov - Občina Grosuplje
DESCRIPTION:KS Spodnja Slivnica\, KS Šmarje-Sap in KS Račna
URL:https://jkpg.si/vrsta-odvoza/preostanek-odpadkov-obcina-grosuplje-96/
LOCATION:Občina Grosuplje
CATEGORIES:Preostanek odpadkov
END:VEVENT
BEGIN:VEVENT
DTSTART;VALUE=DATE:20260408
DTEND;VALUE=DATE:20260409
DTSTAMP:20260421T001139
CREATED:20260317T134240Z
LAST-MODIFIED:20260325T090139Z
UID:10007973-1775606400-1775692799@jkpg.si
SUMMARY:Papir in karton - Občina Ivančna Gorica
DESCRIPTION:Občina Ivančna Gorica
URL:https://jkpg.si/vrsta-odvoza/papir-in-karton-obcina-ivancna-gorica-35/
LOCATION:Občina Ivančna Gorica
CATEGORIES:Papir in karton
END:VEVENT
BEGIN:VEVENT
DTSTART;VALUE=DATE:20260409
DTEND;VALUE=DATE:20260410
DTSTAMP:20260421T001139
CREATED:20260317T134258Z
LAST-MODIFIED:20260325T090307Z
UID:10007976-1775692800-1775779199@jkpg.si
SUMMARY:Preostanek odpadkov - Občina Ivančna Gorica
DESCRIPTION:KS Šentvid – brez naselij; Artiža vas\, Glagovica\, Velike Pece in Vrhpolje
URL:https://jkpg.si/vrsta-odvoza/preostanek-odpadkov-obcina-ivancna-gorica-86/
LOCATION:Občina Ivančna Gorica
CATEGORIES:Preostanek odpadkov
END:VEVENT
BEGIN:VEVENT
DTSTART;VALUE=DATE:20260409
DTEND;VALUE=DATE:20260410
DTSTAMP:20260421T001139
CREATED:20260317T134259Z
LAST-MODIFIED:20260317T134259Z
UID:10007979-1775692800-1775779199@jkpg.si
SUMMARY:Biološki odpadki - Občina Grosuplje
DESCRIPTION:KS Polica
URL:https://jkpg.si/vrsta-odvoza/bioloski-odpadki-obcina-grosuplje-104/
LOCATION:Občina Grosuplje
CATEGORIES:Biološki odpadki
END:VEVENT
BEGIN:VEVENT
DTSTART;VALUE=DATE:20260409
DTEND;VALUE=DATE:20260410
DTSTAMP:20260421T001139
CREATED:20260317T134259Z
LAST-MODIFIED:20260325T090307Z
UID:10007977-1775692800-1775779199@jkpg.si
SUMMARY:Papir in karton - Občina Dobrepolje
DESCRIPTION:Občina Dobrepolje
URL:https://jkpg.si/vrsta-odvoza/papir-in-karton-obcina-dobrepolje-36/
LOCATION:Občina Dobrepolje
CATEGORIES:Papir in karton
END:VEVENT
BEGIN:VEVENT
DTSTART;VALUE=DATE:20260409
DTEND;VALUE=DATE:20260410
DTSTAMP:20260421T001139
CREATED:20260317T134259Z
LAST-MODIFIED:20260325T090308Z
UID:10007978-1775692800-1775779199@jkpg.si
SUMMARY:Biološki odpadki - Občina Grosuplje
DESCRIPTION:KS Polica
URL:https://jkpg.si/vrsta-odvoza/bioloski-odpadki-obcina-grosuplje-103/
LOCATION:Občina Grosuplje
CATEGORIES:Biološki odpadki
END:VEVENT
BEGIN:VEVENT
DTSTART;VALUE=DATE:20260409
DTEND;VALUE=DATE:20260410
DTSTAMP:20260421T001139
CREATED:20260317T134459Z
LAST-MODIFIED:20260325T090322Z
UID:10007981-1775692800-1775779199@jkpg.si
SUMMARY:Papir in karton - Občina Grosuplje
DESCRIPTION:KS Ilova Gora\, KS Mlačevo\, KS Račna\, KS Žalna\, KS Spodnja Slivnica\, KS Škocjan\, KS Št.Jurij\, KS Polica in KS Grosuplje-industrijska cona pod slivniškim hribom
URL:https://jkpg.si/vrsta-odvoza/papir-in-karton-obcina-grosuplje-105/
LOCATION:Občina Grosuplje
CATEGORIES:Papir in karton
END:VEVENT
BEGIN:VEVENT
DTSTART;VALUE=DATE:20260409
DTEND;VALUE=DATE:20260410
DTSTAMP:20260421T001139
CREATED:20260317T134459Z
LAST-MODIFIED:20260325T090322Z
UID:10007980-1775692800-1775779199@jkpg.si
SUMMARY:Preostanek odpadkov - Občina Grosuplje
DESCRIPTION:KS Ilova Gora\, KS Mlačevo\, KS Škocjan\, KS Št. Jurij\, KS Žalna\, KS Polica – naselje Dobje\, Dole pri Polici in Liparjev hrib
URL:https://jkpg.si/vrsta-odvoza/preostanek-odpadkov-obcina-grosuplje-97/
LOCATION:Občina Grosuplje
CATEGORIES:Preostanek odpadkov
END:VEVENT
BEGIN:VEVENT
DTSTART;VALUE=DATE:20260410
DTEND;VALUE=DATE:20260411
DTSTAMP:20260421T001139
CREATED:20260317T134459Z
LAST-MODIFIED:20260325T090322Z
UID:10007982-1775779200-1775865599@jkpg.si
SUMMARY:Preostanek odpadkov - Občina Ivančna Gorica
DESCRIPTION:KS Metnaj\, KS Stična\, KS Šentvid – naselja; Artiža vas\, Glagovica\, Velike Pece in Vrhpolje
URL:https://jkpg.si/vrsta-odvoza/preostanek-odpadkov-obcina-ivancna-gorica-87/
LOCATION:Občina Ivančna Gorica
CATEGORIES:Preostanek odpadkov
END:VEVENT
BEGIN:VEVENT
DTSTART;VALUE=DATE:20260410
DTEND;VALUE=DATE:20260411
DTSTAMP:20260421T001139
CREATED:20260317T134500Z
LAST-MODIFIED:20260325T090323Z
UID:10007984-1775779200-1775865599@jkpg.si
SUMMARY:Biološki odpadki - Občina Dobrepolje
DESCRIPTION:Vsa naselja v občini
URL:https://jkpg.si/vrsta-odvoza/bioloski-odpadki-obcina-dobrepolje-31/
LOCATION:Občina Dobrepolje
CATEGORIES:Biološki odpadki
END:VEVENT
BEGIN:VEVENT
DTSTART;VALUE=DATE:20260410
DTEND;VALUE=DATE:20260411
DTSTAMP:20260421T001139
CREATED:20260317T134500Z
LAST-MODIFIED:20260325T090322Z
UID:10007983-1775779200-1775865599@jkpg.si
SUMMARY:Preostanek odpadkov - Občina Grosuplje
DESCRIPTION:Grosuplje; večstanovanjske stavbe\, Sončni dvori\, šole\, vrtci\, Zdravstveni dom\, KS Polica – brez naselja Mala Stara vas\, Velika Stara vas\, Dobje\, Dole pri Polici in Liparjev hrib
URL:https://jkpg.si/vrsta-odvoza/preostanek-odpadkov-obcina-grosuplje-98/
LOCATION:Občina Grosuplje
CATEGORIES:Preostanek odpadkov
END:VEVENT
BEGIN:VEVENT
DTSTART;VALUE=DATE:20260410
DTEND;VALUE=DATE:20260411
DTSTAMP:20260421T001139
CREATED:20260317T134700Z
LAST-MODIFIED:20260325T090404Z
UID:10007986-1775779200-1775865599@jkpg.si
SUMMARY:Papir in karton - Občina Grosuplje
DESCRIPTION:KS Šmarje-Sap\, KS Grosuplje – brez industrijske cone pod slivniškim hribom
URL:https://jkpg.si/vrsta-odvoza/papir-in-karton-obcina-grosuplje-106/
LOCATION:Občina Grosuplje
CATEGORIES:Papir in karton
END:VEVENT
BEGIN:VEVENT
DTSTART;VALUE=DATE:20260410
DTEND;VALUE=DATE:20260411
DTSTAMP:20260421T001139
CREATED:20260317T134700Z
LAST-MODIFIED:20260325T090404Z
UID:10007985-1775779200-1775865599@jkpg.si
SUMMARY:Biološki odpadki - Občina Grosuplje
DESCRIPTION:KS Šmarje-Sap; Cikava\, Paradišče\, Sela pri Šmarju\, KS Št.Jurij\, KS Škocjan\, KS Mlačevo\, KS Žalna\, KS Račna
URL:https://jkpg.si/vrsta-odvoza/bioloski-odpadki-obcina-grosuplje-105/
LOCATION:Občina Grosuplje
CATEGORIES:Biološki odpadki
END:VEVENT
BEGIN:VEVENT
DTSTART;TZID=Europe/Ljubljana:20260411T073000
DTEND;TZID=Europe/Ljubljana:20260411T080000
DTSTAMP:20260421T001139
CREATED:20260317T094417Z
LAST-MODIFIED:20260325T090449Z
UID:10007863-1775892600-1775894400@jkpg.si
SUMMARY:Odpadna električna in elektronska oprema - Občina Ivančna Gorica
DESCRIPTION:AMBRUS – pred Kmetijsko zadrugo
URL:https://jkpg.si/vrsta-odvoza/odpadna-elektricna-in-elektronska-oprema-obcina-ivancna-gorica-12/
LOCATION:Občina Ivančna Gorica
CATEGORIES:Odpadna električna in elektronska oprema
END:VEVENT
BEGIN:VEVENT
DTSTART;TZID=Europe/Ljubljana:20260411T080000
DTEND;TZID=Europe/Ljubljana:20260411T080000
DTSTAMP:20260421T001139
CREATED:20260317T094329Z
LAST-MODIFIED:20260325T090404Z
UID:10007853-1775894400-1775894400@jkpg.si
SUMMARY:Odpadna električna in elektronska oprema - Občina Ivančna Gorica
DESCRIPTION:SOBRAČE – pri gasilskem domu
URL:https://jkpg.si/vrsta-odvoza/odpadna-elektricna-in-elektronska-oprema-obcina-ivancna-gorica-2/
LOCATION:Občina Ivančna Gorica
CATEGORIES:Odpadna električna in elektronska oprema
END:VEVENT
BEGIN:VEVENT
DTSTART;TZID=Europe/Ljubljana:20260411T083000
DTEND;TZID=Europe/Ljubljana:20260411T090000
DTSTAMP:20260421T001139
CREATED:20260317T094417Z
LAST-MODIFIED:20260325T090449Z
UID:10007864-1775896200-1775898000@jkpg.si
SUMMARY:Odpadna električna in elektronska oprema - Občina Ivančna Gorica
DESCRIPTION:ZAGRADEC – pri šoli
URL:https://jkpg.si/vrsta-odvoza/odpadna-elektricna-in-elektronska-oprema-obcina-ivancna-gorica-13/
LOCATION:Občina Ivančna Gorica
CATEGORIES:Odpadna električna in elektronska oprema
END:VEVENT
BEGIN:VEVENT
DTSTART;TZID=Europe/Ljubljana:20260411T084500
DTEND;TZID=Europe/Ljubljana:20260411T084500
DTSTAMP:20260421T001139
CREATED:20260317T094329Z
LAST-MODIFIED:20260325T090404Z
UID:10007854-1775897100-1775897100@jkpg.si
SUMMARY:Odpadna električna in elektronska oprema - Občina Ivančna Gorica
DESCRIPTION:TEMENICA – pri trgovini
URL:https://jkpg.si/vrsta-odvoza/odpadna-elektricna-in-elektronska-oprema-obcina-ivancna-gorica-3/
LOCATION:Občina Ivančna Gorica
CATEGORIES:Odpadna električna in elektronska oprema
END:VEVENT
BEGIN:VEVENT
DTSTART;TZID=Europe/Ljubljana:20260411T091500
DTEND;TZID=Europe/Ljubljana:20260411T094500
DTSTAMP:20260421T001139
CREATED:20260317T094431Z
LAST-MODIFIED:20260325T090504Z
UID:10007865-1775898900-1775900700@jkpg.si
SUMMARY:Odpadna električna in elektronska oprema - Občina Ivančna Gorica
DESCRIPTION:GABROVČEC – avtobusna postaja med vasjo Gabrovčec in Velike Lese
URL:https://jkpg.si/vrsta-odvoza/odpadna-elektricna-in-elektronska-oprema-obcina-ivancna-gorica-14/
LOCATION:Občina Ivančna Gorica
CATEGORIES:Odpadna električna in elektronska oprema
END:VEVENT
BEGIN:VEVENT
DTSTART;TZID=Europe/Ljubljana:20260411T094500
DTEND;TZID=Europe/Ljubljana:20260411T094500
DTSTAMP:20260421T001139
CREATED:20260317T094400Z
LAST-MODIFIED:20260325T090419Z
UID:10007856-1775900700-1775900700@jkpg.si
SUMMARY:Odpadna električna in elektronska oprema - Občina Ivančna Gorica
DESCRIPTION:PETRUŠNJA VAS – pri ekološkem otoku
URL:https://jkpg.si/vrsta-odvoza/odpadna-elektricna-in-elektronska-oprema-obcina-ivancna-gorica-5/
LOCATION:Občina Ivančna Gorica
CATEGORIES:Odpadna električna in elektronska oprema
END:VEVENT
BEGIN:VEVENT
DTSTART;TZID=Europe/Ljubljana:20260411T100000
DTEND;TZID=Europe/Ljubljana:20260411T103000
DTSTAMP:20260421T001139
CREATED:20260317T094431Z
LAST-MODIFIED:20260325T090504Z
UID:10007866-1775901600-1775903400@jkpg.si
SUMMARY:Odpadna električna in elektronska oprema - Občina Ivančna Gorica
DESCRIPTION:KRKA – parkirišče Rebolj
URL:https://jkpg.si/vrsta-odvoza/odpadna-elektricna-in-elektronska-oprema-obcina-ivancna-gorica-15/
LOCATION:Občina Ivančna Gorica
CATEGORIES:Odpadna električna in elektronska oprema
END:VEVENT
BEGIN:VEVENT
DTSTART;TZID=Europe/Ljubljana:20260411T103000
DTEND;TZID=Europe/Ljubljana:20260411T103000
DTSTAMP:20260421T001139
CREATED:20260317T094401Z
LAST-MODIFIED:20260325T090419Z
UID:10007857-1775903400-1775903400@jkpg.si
SUMMARY:Odpadna električna in elektronska oprema - Občina Ivančna Gorica
DESCRIPTION:ŠENTVID PRI STIČNI – pri gasilskem domu
URL:https://jkpg.si/vrsta-odvoza/odpadna-elektricna-in-elektronska-oprema-obcina-ivancna-gorica-6/
LOCATION:Občina Ivančna Gorica
CATEGORIES:Odpadna električna in elektronska oprema
END:VEVENT
BEGIN:VEVENT
DTSTART;TZID=Europe/Ljubljana:20260411T104500
DTEND;TZID=Europe/Ljubljana:20260411T110000
DTSTAMP:20260421T001139
CREATED:20260317T094431Z
LAST-MODIFIED:20260325T090504Z
UID:10007867-1775904300-1775905200@jkpg.si
SUMMARY:Odpadna električna in elektronska oprema - Občina Ivančna Gorica
DESCRIPTION:MULJAVA – pred družbenim domom
URL:https://jkpg.si/vrsta-odvoza/odpadna-elektricna-in-elektronska-oprema-obcina-ivancna-gorica-16/
LOCATION:Občina Ivančna Gorica
CATEGORIES:Odpadna električna in elektronska oprema
END:VEVENT
BEGIN:VEVENT
DTSTART;TZID=Europe/Ljubljana:20260411T110000
DTEND;TZID=Europe/Ljubljana:20260411T110000
DTSTAMP:20260421T001139
CREATED:20260317T094401Z
LAST-MODIFIED:20260325T090419Z
UID:10007858-1775905200-1775905200@jkpg.si
SUMMARY:Odpadna električna in elektronska oprema - Občina Ivančna Gorica
DESCRIPTION:RADOHOVA VAS – na železniški postaji
URL:https://jkpg.si/vrsta-odvoza/odpadna-elektricna-in-elektronska-oprema-obcina-ivancna-gorica-7/
LOCATION:Občina Ivančna Gorica
CATEGORIES:Odpadna električna in elektronska oprema
END:VEVENT
BEGIN:VEVENT
DTSTART;TZID=Europe/Ljubljana:20260411T111500
DTEND;TZID=Europe/Ljubljana:20260411T114500
DTSTAMP:20260421T001139
CREATED:20260317T094432Z
LAST-MODIFIED:20260325T090504Z
UID:10007868-1775906100-1775907900@jkpg.si
SUMMARY:Odpadna električna in elektronska oprema - Občina Ivančna Gorica
DESCRIPTION:IVANČNA GORICA – pri stanovanj. blokih ob Lj. cesti
URL:https://jkpg.si/vrsta-odvoza/odpadna-elektricna-in-elektronska-oprema-obcina-ivancna-gorica-17/
LOCATION:Občina Ivančna Gorica
CATEGORIES:Odpadna električna in elektronska oprema
END:VEVENT
BEGIN:VEVENT
DTSTART;TZID=Europe/Ljubljana:20260411T114500
DTEND;TZID=Europe/Ljubljana:20260411T114500
DTSTAMP:20260421T001139
CREATED:20260317T094401Z
LAST-MODIFIED:20260325T090419Z
UID:10007859-1775907900-1775907900@jkpg.si
SUMMARY:Odpadna električna in elektronska oprema - Občina Ivančna Gorica
DESCRIPTION:DOB- na avtobusni postaji
URL:https://jkpg.si/vrsta-odvoza/odpadna-elektricna-in-elektronska-oprema-obcina-ivancna-gorica-8/
LOCATION:Občina Ivančna Gorica
CATEGORIES:Odpadna električna in elektronska oprema
END:VEVENT
BEGIN:VEVENT
DTSTART;TZID=Europe/Ljubljana:20260411T120000
DTEND;TZID=Europe/Ljubljana:20260411T121500
DTSTAMP:20260421T001139
CREATED:20260317T094432Z
LAST-MODIFIED:20260325T090505Z
UID:10007869-1775908800-1775909700@jkpg.si
SUMMARY:Odpadna električna in elektronska oprema - Občina Ivančna Gorica
DESCRIPTION:MALO HUDO – pri gasilskem domu
URL:https://jkpg.si/vrsta-odvoza/odpadna-elektricna-in-elektronska-oprema-obcina-ivancna-gorica-18/
LOCATION:Občina Ivančna Gorica
CATEGORIES:Odpadna električna in elektronska oprema
END:VEVENT
BEGIN:VEVENT
DTSTART;TZID=Europe/Ljubljana:20260411T121500
DTEND;TZID=Europe/Ljubljana:20260411T121500
DTSTAMP:20260421T001139
CREATED:20260317T094416Z
LAST-MODIFIED:20260325T090419Z
UID:10007860-1775909700-1775909700@jkpg.si
SUMMARY:Odpadna električna in elektronska oprema - Občina Ivančna Gorica
DESCRIPTION:HRASTOV DOL – sredi naselja
URL:https://jkpg.si/vrsta-odvoza/odpadna-elektricna-in-elektronska-oprema-obcina-ivancna-gorica-9/
LOCATION:Občina Ivančna Gorica
CATEGORIES:Odpadna električna in elektronska oprema
END:VEVENT
BEGIN:VEVENT
DTSTART;TZID=Europe/Ljubljana:20260411T123000
DTEND;TZID=Europe/Ljubljana:20260411T130000
DTSTAMP:20260421T001139
CREATED:20260317T094446Z
LAST-MODIFIED:20260325T090555Z
UID:10007870-1775910600-1775912400@jkpg.si
SUMMARY:Odpadna električna in elektronska oprema - Občina Ivančna Gorica
DESCRIPTION:VRH NAD VIŠNJO GORO – pri gasilskem domu
URL:https://jkpg.si/vrsta-odvoza/odpadna-elektricna-in-elektronska-oprema-obcina-ivancna-gorica-19/
LOCATION:Občina Ivančna Gorica
CATEGORIES:Odpadna električna in elektronska oprema
END:VEVENT
END:VCALENDAR