BEGIN:VCALENDAR
VERSION:2.0
PRODID:-//Javno komunalno podjetje Grosuplje - ECPv6.9.1//NONSGML v1.0//EN
CALSCALE:GREGORIAN
METHOD:PUBLISH
X-WR-CALNAME:Javno komunalno podjetje Grosuplje
X-ORIGINAL-URL:https://jkpg.si
X-WR-CALDESC:Dogodki za Javno komunalno podjetje Grosuplje
REFRESH-INTERVAL;VALUE=DURATION:PT1H
X-Robots-Tag:noindex
X-PUBLISHED-TTL:PT1H
BEGIN:VTIMEZONE
TZID:Europe/Ljubljana
BEGIN:DAYLIGHT
TZOFFSETFROM:+0100
TZOFFSETTO:+0200
TZNAME:CEST
DTSTART:20260329T010000
END:DAYLIGHT
BEGIN:STANDARD
TZOFFSETFROM:+0200
TZOFFSETTO:+0100
TZNAME:CET
DTSTART:20261025T010000
END:STANDARD
END:VTIMEZONE
BEGIN:VEVENT
DTSTART;VALUE=DATE:20260420
DTEND;VALUE=DATE:20260421
DTSTAMP:20260420T185501
CREATED:20260317T140028Z
LAST-MODIFIED:20260325T091415Z
UID:10008014-1776643200-1776729599@jkpg.si
SUMMARY:Preostanek odpadkov - Občina Ivančna Gorica
DESCRIPTION:KS Ivančna Gorica\, brez naselja Spodnja Draga
URL:https://jkpg.si/vrsta-odvoza/preostanek-odpadkov-obcina-ivancna-gorica-88/
LOCATION:Občina Ivančna Gorica
CATEGORIES:Preostanek odpadkov
END:VEVENT
BEGIN:VEVENT
DTSTART;VALUE=DATE:20260420
DTEND;VALUE=DATE:20260421
DTSTAMP:20260420T185501
CREATED:20260317T140045Z
LAST-MODIFIED:20260325T091615Z
UID:10008015-1776643200-1776729599@jkpg.si
SUMMARY:Preostanek odpadkov - Občina Dobrepolje
DESCRIPTION:Vsa naselje v občini razen Hočevja
URL:https://jkpg.si/vrsta-odvoza/preostanek-odpadkov-obcina-dobrepolje-35/
LOCATION:Občina Dobrepolje
CATEGORIES:Preostanek odpadkov
END:VEVENT
BEGIN:VEVENT
DTSTART;VALUE=DATE:20260420
DTEND;VALUE=DATE:20260421
DTSTAMP:20260420T185501
CREATED:20260317T140045Z
LAST-MODIFIED:20260325T091615Z
UID:10008018-1776643200-1776729599@jkpg.si
SUMMARY:Papir in karton - Občina Grosuplje
DESCRIPTION:KS Grosuplje\, KS Šmarje-Sap
URL:https://jkpg.si/vrsta-odvoza/papir-in-karton-obcina-grosuplje-110/
LOCATION:Občina Grosuplje
CATEGORIES:Papir in karton
END:VEVENT
BEGIN:VEVENT
DTSTART;VALUE=DATE:20260420
DTEND;VALUE=DATE:20260421
DTSTAMP:20260420T185501
CREATED:20260317T140045Z
LAST-MODIFIED:20260325T091615Z
UID:10008016-1776643200-1776729599@jkpg.si
SUMMARY:Preostanek odpadkov - Občina Grosuplje
DESCRIPTION:Grosuplje; območje severno od Adamičeve c. in zahodno od potoka Grosupeljščica ter naselje Brvace
URL:https://jkpg.si/vrsta-odvoza/preostanek-odpadkov-obcina-grosuplje-99/
LOCATION:Občina Grosuplje
CATEGORIES:Preostanek odpadkov
END:VEVENT
BEGIN:VEVENT
DTSTART;VALUE=DATE:20260420
DTEND;VALUE=DATE:20260421
DTSTAMP:20260420T185501
CREATED:20260317T140045Z
LAST-MODIFIED:20260325T091615Z
UID:10008017-1776643200-1776729599@jkpg.si
SUMMARY:Biološki odpadki - Občina Ivančna Gorica
DESCRIPTION:KS Dob\, KS Šentvid\, KS Stična\, KS Metnaj\, KS Muljava\, KS Krka\, KS Zagradec\, KS Ambrus\, KS Sobtače\, KSTemenica\, KS Višnja Gora – okolica\, brez naselja Višnja Gora.
URL:https://jkpg.si/vrsta-odvoza/bioloski-odpadki-obcina-ivancna-gorica-57/
LOCATION:Občina Ivančna Gorica
CATEGORIES:Biološki odpadki
END:VEVENT
BEGIN:VEVENT
DTSTART;VALUE=DATE:20260421
DTEND;VALUE=DATE:20260422
DTSTAMP:20260420T185501
CREATED:20260317T140045Z
LAST-MODIFIED:20260325T091615Z
UID:10008019-1776729600-1776815999@jkpg.si
SUMMARY:Preostanek odpadkov - Občina Ivančna Gorica
DESCRIPTION:KS Ambrus\, KS Krka\, KS Višnja Gora\, KS Zagradec\, KS Muljava- brez naselij; Bojavni Vrh\, Velike in Male Kompolje\, Sušica in Trebež
URL:https://jkpg.si/vrsta-odvoza/preostanek-odpadkov-obcina-ivancna-gorica-89/
LOCATION:Občina Ivančna Gorica
CATEGORIES:Preostanek odpadkov
END:VEVENT
BEGIN:VEVENT
DTSTART;VALUE=DATE:20260421
DTEND;VALUE=DATE:20260422
DTSTAMP:20260420T185501
CREATED:20260317T140100Z
LAST-MODIFIED:20260325T092500Z
UID:10008020-1776729600-1776815999@jkpg.si
SUMMARY:Preostanek odpadkov - Občina Dobrepolje
DESCRIPTION:Naselje Hočevje
URL:https://jkpg.si/vrsta-odvoza/preostanek-odpadkov-obcina-dobrepolje-36/
LOCATION:Občina Dobrepolje
CATEGORIES:Preostanek odpadkov
END:VEVENT
BEGIN:VEVENT
DTSTART;VALUE=DATE:20260421
DTEND;VALUE=DATE:20260422
DTSTAMP:20260420T185501
CREATED:20260317T140100Z
LAST-MODIFIED:20260325T092500Z
UID:10008023-1776729600-1776815999@jkpg.si
SUMMARY:Preostanek odpadkov - Občina Grosuplje
DESCRIPTION:Grosuplje; območje južno od Adamičeve ceste\, KS Polica –  Mala Stara vas in Velika Stara vas
URL:https://jkpg.si/vrsta-odvoza/preostanek-odpadkov-obcina-grosuplje-100/
LOCATION:Občina Grosuplje
CATEGORIES:Preostanek odpadkov
END:VEVENT
BEGIN:VEVENT
DTSTART;VALUE=DATE:20260421
DTEND;VALUE=DATE:20260422
DTSTAMP:20260420T185501
CREATED:20260317T140100Z
LAST-MODIFIED:20260325T092500Z
UID:10008021-1776729600-1776815999@jkpg.si
SUMMARY:Biološki odpadki - Občina Grosuplje
DESCRIPTION:Grosuplje; območje severno od Adamičeve c.\, Perovo\, Jerova vas in Brvace\, brez Metelkovih\, Kajuhovih\, Valavazorjevih dvorov in Preske
URL:https://jkpg.si/vrsta-odvoza/bioloski-odpadki-obcina-grosuplje-110/
LOCATION:Občina Grosuplje
CATEGORIES:Biološki odpadki
END:VEVENT
BEGIN:VEVENT
DTSTART;VALUE=DATE:20260421
DTEND;VALUE=DATE:20260422
DTSTAMP:20260420T185501
CREATED:20260317T140100Z
LAST-MODIFIED:20260325T092500Z
UID:10008022-1776729600-1776815999@jkpg.si
SUMMARY:Steklena embalaža - Občina Ivančna Gorica
DESCRIPTION:Občina Ivančna Gorica
URL:https://jkpg.si/vrsta-odvoza/steklena-embalaza-obcina-ivancna-gorica-18/
LOCATION:Občina Ivančna Gorica
CATEGORIES:Steklena embalaža
END:VEVENT
BEGIN:VEVENT
DTSTART;VALUE=DATE:20260422
DTEND;VALUE=DATE:20260423
DTSTAMP:20260420T185501
CREATED:20260317T140101Z
LAST-MODIFIED:20260325T092501Z
UID:10008024-1776816000-1776902399@jkpg.si
SUMMARY:Preostanek odpadkov - Občina Ivančna Gorica
DESCRIPTION:Naselje Spodnja Draga\, KS Dob\, KS Sobrače\, KS Temenica\, KS Muljava – naselja; Bojani Vrh\, Velike in Male Kompolje\, Sušica in Trebež
URL:https://jkpg.si/vrsta-odvoza/preostanek-odpadkov-obcina-ivancna-gorica-90/
LOCATION:Občina Ivančna Gorica
CATEGORIES:Preostanek odpadkov
END:VEVENT
BEGIN:VEVENT
DTSTART;VALUE=DATE:20260422
DTEND;VALUE=DATE:20260423
DTSTAMP:20260420T185501
CREATED:20260317T140149Z
LAST-MODIFIED:20260325T092515Z
UID:10008025-1776816000-1776902399@jkpg.si
SUMMARY:Papir in karton - Občina Ivančna Gorica
DESCRIPTION:Občina Ivančna Gorica
URL:https://jkpg.si/vrsta-odvoza/papir-in-karton-obcina-ivancna-gorica-37/
LOCATION:Občina Ivančna Gorica
CATEGORIES:Papir in karton
END:VEVENT
BEGIN:VEVENT
DTSTART;VALUE=DATE:20260422
DTEND;VALUE=DATE:20260423
DTSTAMP:20260420T185501
CREATED:20260317T140149Z
LAST-MODIFIED:20260325T092516Z
UID:10008026-1776816000-1776902399@jkpg.si
SUMMARY:Biološki odpadki - Občina Ivančna Gorica
DESCRIPTION:KS Ivančna Gorica\, KS Višnja Gora – naselja Višnja Gora
URL:https://jkpg.si/vrsta-odvoza/bioloski-odpadki-obcina-ivancna-gorica-58/
LOCATION:Občina Ivančna Gorica
CATEGORIES:Biološki odpadki
END:VEVENT
BEGIN:VEVENT
DTSTART;VALUE=DATE:20260422
DTEND;VALUE=DATE:20260423
DTSTAMP:20260420T185501
CREATED:20260317T140150Z
LAST-MODIFIED:20260325T092516Z
UID:10008027-1776816000-1776902399@jkpg.si
SUMMARY:Preostanek odpadkov - Občina Grosuplje
DESCRIPTION:KS Spodnja Slivnica\, KS Šmarje-Sap in KS Račna
URL:https://jkpg.si/vrsta-odvoza/preostanek-odpadkov-obcina-grosuplje-101/
LOCATION:Občina Grosuplje
CATEGORIES:Preostanek odpadkov
END:VEVENT
BEGIN:VEVENT
DTSTART;VALUE=DATE:20260422
DTEND;VALUE=DATE:20260423
DTSTAMP:20260420T185501
CREATED:20260317T140150Z
LAST-MODIFIED:20260317T140150Z
UID:10008028-1776816000-1776902399@jkpg.si
SUMMARY:Preostanek odpadkov - Občina Grosuplje
DESCRIPTION:KS Spodnja Slivnica\, KS Šmarje-Sap in KS Račna
URL:https://jkpg.si/vrsta-odvoza/preostanek-odpadkov-obcina-grosuplje-102/
LOCATION:Občina Grosuplje
CATEGORIES:Preostanek odpadkov
END:VEVENT
BEGIN:VEVENT
DTSTART;VALUE=DATE:20260423
DTEND;VALUE=DATE:20260424
DTSTAMP:20260420T185501
CREATED:20260317T140150Z
LAST-MODIFIED:20260325T092516Z
UID:10008029-1776902400-1776988799@jkpg.si
SUMMARY:Preostanek odpadkov - Občina Ivančna Gorica
DESCRIPTION:KS Šentvid – brez naselij; Artiža vas\, Glagovica\, Velike Pece in Vrhpolje
URL:https://jkpg.si/vrsta-odvoza/preostanek-odpadkov-obcina-ivancna-gorica-91/
LOCATION:Občina Ivančna Gorica
CATEGORIES:Preostanek odpadkov
END:VEVENT
BEGIN:VEVENT
DTSTART;VALUE=DATE:20260423
DTEND;VALUE=DATE:20260424
DTSTAMP:20260420T185501
CREATED:20260317T140205Z
LAST-MODIFIED:20260325T092534Z
UID:10008030-1776902400-1776988799@jkpg.si
SUMMARY:Papir in karton - Občina Dobrepolje
DESCRIPTION:Občina Dobrepolje
URL:https://jkpg.si/vrsta-odvoza/papir-in-karton-obcina-dobrepolje-38/
LOCATION:Občina Dobrepolje
CATEGORIES:Papir in karton
END:VEVENT
BEGIN:VEVENT
DTSTART;VALUE=DATE:20260423
DTEND;VALUE=DATE:20260424
DTSTAMP:20260420T185501
CREATED:20260317T140206Z
LAST-MODIFIED:20260317T140206Z
UID:10008032-1776902400-1776988799@jkpg.si
SUMMARY:Biološki odpadki - Občina Grosuplje
DESCRIPTION:KS Polica
URL:https://jkpg.si/vrsta-odvoza/bioloski-odpadki-obcina-grosuplje-112/
LOCATION:Občina Grosuplje
CATEGORIES:Biološki odpadki
END:VEVENT
BEGIN:VEVENT
DTSTART;VALUE=DATE:20260423
DTEND;VALUE=DATE:20260424
DTSTAMP:20260420T185501
CREATED:20260317T140206Z
LAST-MODIFIED:20260325T092535Z
UID:10008033-1776902400-1776988799@jkpg.si
SUMMARY:Preostanek odpadkov - Občina Grosuplje
DESCRIPTION:KS Ilova Gora\, KS Mlačevo\, KS Škocjan\, KS Št. Jurij\, KS Žalna\, KS Polica – naselje Dobje\, Dole pri Polici in Liparjev hrib
URL:https://jkpg.si/vrsta-odvoza/preostanek-odpadkov-obcina-grosuplje-103/
LOCATION:Občina Grosuplje
CATEGORIES:Preostanek odpadkov
END:VEVENT
BEGIN:VEVENT
DTSTART;VALUE=DATE:20260423
DTEND;VALUE=DATE:20260424
DTSTAMP:20260420T185501
CREATED:20260317T140206Z
LAST-MODIFIED:20260325T092535Z
UID:10008031-1776902400-1776988799@jkpg.si
SUMMARY:Biološki odpadki - Občina Grosuplje
DESCRIPTION:KS Polica
URL:https://jkpg.si/vrsta-odvoza/bioloski-odpadki-obcina-grosuplje-111/
LOCATION:Občina Grosuplje
CATEGORIES:Biološki odpadki
END:VEVENT
BEGIN:VEVENT
DTSTART;VALUE=DATE:20260423
DTEND;VALUE=DATE:20260424
DTSTAMP:20260420T185501
CREATED:20260317T140206Z
LAST-MODIFIED:20260325T092535Z
UID:10008034-1776902400-1776988799@jkpg.si
SUMMARY:Papir in karton - Občina Grosuplje
DESCRIPTION:KS Ilova Gora\, KS Mlačevo\, KS Račna\, KS Žalna\, KS Spodnja Slivnica\, KS Škocjan\, KS Št.Jurij\, KS Polica in KS Grosuplje-industrijska cona pod slivniškim hribom
URL:https://jkpg.si/vrsta-odvoza/papir-in-karton-obcina-grosuplje-111/
LOCATION:Občina Grosuplje
CATEGORIES:Papir in karton
END:VEVENT
BEGIN:VEVENT
DTSTART;VALUE=DATE:20260424
DTEND;VALUE=DATE:20260425
DTSTAMP:20260420T185501
CREATED:20260317T140406Z
LAST-MODIFIED:20260325T092549Z
UID:10008035-1776988800-1777075199@jkpg.si
SUMMARY:Preostanek odpadkov - Občina Ivančna Gorica
DESCRIPTION:KS Metnaj\, KS Stična\, KS Šentvid – naselja; Artiža vas\, Glagovica\, Velike Pece in Vrhpolje
URL:https://jkpg.si/vrsta-odvoza/preostanek-odpadkov-obcina-ivancna-gorica-92/
LOCATION:Občina Ivančna Gorica
CATEGORIES:Preostanek odpadkov
END:VEVENT
BEGIN:VEVENT
DTSTART;VALUE=DATE:20260424
DTEND;VALUE=DATE:20260425
DTSTAMP:20260420T185501
CREATED:20260317T140406Z
LAST-MODIFIED:20260325T092549Z
UID:10008036-1776988800-1777075199@jkpg.si
SUMMARY:Preostanek odpadkov - Občina Grosuplje
DESCRIPTION:Grosuplje; večstanovanjske stavbe\, Sončni dvori\, šole\, vrtci\, Zdravstveni dom\, KS Polica – brez naselja Mala Stara vas\, Velika Stara vas\, Dobje\, Dole pri Polici in Liparjev hrib
URL:https://jkpg.si/vrsta-odvoza/preostanek-odpadkov-obcina-grosuplje-104/
LOCATION:Občina Grosuplje
CATEGORIES:Preostanek odpadkov
END:VEVENT
BEGIN:VEVENT
DTSTART;VALUE=DATE:20260424
DTEND;VALUE=DATE:20260425
DTSTAMP:20260420T185501
CREATED:20260317T140407Z
LAST-MODIFIED:20260325T092549Z
UID:10008037-1776988800-1777075199@jkpg.si
SUMMARY:Biološki odpadki - Občina Dobrepolje
DESCRIPTION:Vsa naselja v občini
URL:https://jkpg.si/vrsta-odvoza/bioloski-odpadki-obcina-dobrepolje-33/
LOCATION:Občina Dobrepolje
CATEGORIES:Biološki odpadki
END:VEVENT
BEGIN:VEVENT
DTSTART;VALUE=DATE:20260424
DTEND;VALUE=DATE:20260425
DTSTAMP:20260420T185501
CREATED:20260317T140407Z
LAST-MODIFIED:20260325T092550Z
UID:10008038-1776988800-1777075199@jkpg.si
SUMMARY:Biološki odpadki - Občina Grosuplje
DESCRIPTION:KS Šmarje-Sap; Cikava\, Paradišče\, Sela pri Šmarju\, KS Št.Jurij\, KS Škocjan\, KS Mlačevo\, KS Žalna\, KS Račna
URL:https://jkpg.si/vrsta-odvoza/bioloski-odpadki-obcina-grosuplje-113/
LOCATION:Občina Grosuplje
CATEGORIES:Biološki odpadki
END:VEVENT
BEGIN:VEVENT
DTSTART;VALUE=DATE:20260424
DTEND;VALUE=DATE:20260425
DTSTAMP:20260420T185501
CREATED:20260317T140407Z
LAST-MODIFIED:20260325T092550Z
UID:10008039-1776988800-1777075199@jkpg.si
SUMMARY:Papir in karton - Občina Grosuplje
DESCRIPTION:KS Šmarje-Sap\, KS Grosuplje – brez industrijske cone pod slivniškim hribom
URL:https://jkpg.si/vrsta-odvoza/papir-in-karton-obcina-grosuplje-112/
LOCATION:Občina Grosuplje
CATEGORIES:Papir in karton
END:VEVENT
BEGIN:VEVENT
DTSTART;VALUE=DATE:20260427
DTEND;VALUE=DATE:20260428
DTSTAMP:20260420T185501
CREATED:20260317T140422Z
LAST-MODIFIED:20260325T092605Z
UID:10008042-1777248000-1777334399@jkpg.si
SUMMARY:Mešana embalaža - Občina Dobrepolje
DESCRIPTION:Vsa naselje v občini razen Hočevja
URL:https://jkpg.si/vrsta-odvoza/mesana-embalaza-obcina-dobrepolje-37/
LOCATION:Občina Dobrepolje
CATEGORIES:Mešana embalaža
END:VEVENT
BEGIN:VEVENT
DTSTART;VALUE=DATE:20260427
DTEND;VALUE=DATE:20260428
DTSTAMP:20260420T185501
CREATED:20260317T140422Z
LAST-MODIFIED:20260325T092604Z
UID:10008040-1777248000-1777334399@jkpg.si
SUMMARY:Mešana embalaža - Občina Ivančna Gorica
DESCRIPTION:KS Ivančna Gorica\, brez naselja Spodnja Draga
URL:https://jkpg.si/vrsta-odvoza/mesana-embalaza-obcina-ivancna-gorica-94/
LOCATION:Občina Ivančna Gorica
CATEGORIES:Mešana embalaža
END:VEVENT
BEGIN:VEVENT
DTSTART;VALUE=DATE:20260427
DTEND;VALUE=DATE:20260428
DTSTAMP:20260420T185501
CREATED:20260317T140422Z
LAST-MODIFIED:20260325T092605Z
UID:10008043-1777248000-1777334399@jkpg.si
SUMMARY:Steklena embalaža - Občina Dobrepolje
DESCRIPTION:Občina Dobrepolje
URL:https://jkpg.si/vrsta-odvoza/steklena-embalaza-obcina-dobrepolje-20/
LOCATION:Občina Dobrepolje
CATEGORIES:Steklena embalaža
END:VEVENT
BEGIN:VEVENT
DTSTART;VALUE=DATE:20260427
DTEND;VALUE=DATE:20260428
DTSTAMP:20260420T185501
CREATED:20260317T140422Z
LAST-MODIFIED:20260325T092604Z
UID:10008041-1777248000-1777334399@jkpg.si
SUMMARY:Biološki odpadki - Občina Ivančna Gorica
DESCRIPTION:KS Dob\, KS Šentvid\, KS Stična\, KS Metnaj\, KS Muljava\, KS Krka\, KS Zagradec\, KS Ambrus\, KS Sobtače\, KSTemenica\, KS Višnja Gora – okolica\, brez naselja Višnja Gora.
URL:https://jkpg.si/vrsta-odvoza/bioloski-odpadki-obcina-ivancna-gorica-59/
LOCATION:Občina Ivančna Gorica
CATEGORIES:Biološki odpadki
END:VEVENT
END:VCALENDAR