BEGIN:VCALENDAR
VERSION:2.0
PRODID:-//Javno komunalno podjetje Grosuplje - ECPv6.9.1//NONSGML v1.0//EN
CALSCALE:GREGORIAN
METHOD:PUBLISH
X-ORIGINAL-URL:https://jkpg.si
X-WR-CALDESC:Dogodki za Javno komunalno podjetje Grosuplje
REFRESH-INTERVAL;VALUE=DURATION:PT1H
X-Robots-Tag:noindex
X-PUBLISHED-TTL:PT1H
BEGIN:VTIMEZONE
TZID:Europe/Ljubljana
BEGIN:DAYLIGHT
TZOFFSETFROM:+0100
TZOFFSETTO:+0200
TZNAME:CEST
DTSTART:20260329T010000
END:DAYLIGHT
BEGIN:STANDARD
TZOFFSETFROM:+0200
TZOFFSETTO:+0100
TZNAME:CET
DTSTART:20261025T010000
END:STANDARD
END:VTIMEZONE
BEGIN:VEVENT
DTSTART;VALUE=DATE:20260417
DTEND;VALUE=DATE:20260418
DTSTAMP:20260420T190742
CREATED:20260317T140028Z
LAST-MODIFIED:20260325T091415Z
UID:10008013-1776384000-1776470399@jkpg.si
SUMMARY:Papir in karton - Občina Grosuplje
DESCRIPTION:KS Šmarje-Sap\, KS Grosuplje – brez industrijske cone pod slivniškim hribom
URL:https://jkpg.si/vrsta-odvoza/papir-in-karton-obcina-grosuplje-109/
LOCATION:Občina Grosuplje
CATEGORIES:Papir in karton
END:VEVENT
BEGIN:VEVENT
DTSTART;VALUE=DATE:20260417
DTEND;VALUE=DATE:20260418
DTSTAMP:20260420T190742
CREATED:20260317T140027Z
LAST-MODIFIED:20260325T091414Z
UID:10008010-1776384000-1776470399@jkpg.si
SUMMARY:Biološki odpadki - Občina Dobrepolje
DESCRIPTION:Vsa naselja v občini
URL:https://jkpg.si/vrsta-odvoza/bioloski-odpadki-obcina-dobrepolje-32/
LOCATION:Občina Dobrepolje
CATEGORIES:Biološki odpadki
END:VEVENT
BEGIN:VEVENT
DTSTART;VALUE=DATE:20260417
DTEND;VALUE=DATE:20260418
DTSTAMP:20260420T190742
CREATED:20260317T140027Z
LAST-MODIFIED:20260325T091414Z
UID:10008011-1776384000-1776470399@jkpg.si
SUMMARY:Mešana embalaža - Občina Grosuplje
DESCRIPTION:Grosuplje; večstanovanjske stavbe\, Sončni dvori\, šole\, vrtci\, Zdravstveni dom\, KS Polica – brez naselja Mala Stara vas\, Velika Stara vas\, Dobje\, Dole pri Polici in Liparjev hrib
URL:https://jkpg.si/vrsta-odvoza/mesana-embalaza-obcina-grosuplje-106/
LOCATION:Občina Grosuplje
CATEGORIES:Mešana embalaža
END:VEVENT
BEGIN:VEVENT
DTSTART;VALUE=DATE:20260417
DTEND;VALUE=DATE:20260418
DTSTAMP:20260420T190742
CREATED:20260317T140027Z
LAST-MODIFIED:20260325T091414Z
UID:10008012-1776384000-1776470399@jkpg.si
SUMMARY:Biološki odpadki - Občina Grosuplje
DESCRIPTION:KS Šmarje-Sap; Cikava\, Paradišče\, Sela pri Šmarju\, KS Št.Jurij\, KS Škocjan\, KS Mlačevo\, KS Žalna\, KS Račna
URL:https://jkpg.si/vrsta-odvoza/bioloski-odpadki-obcina-grosuplje-109/
LOCATION:Občina Grosuplje
CATEGORIES:Biološki odpadki
END:VEVENT
BEGIN:VEVENT
DTSTART;VALUE=DATE:20260417
DTEND;VALUE=DATE:20260418
DTSTAMP:20260420T190742
CREATED:20260317T135827Z
LAST-MODIFIED:20260325T091214Z
UID:10008009-1776384000-1776470399@jkpg.si
SUMMARY:Mešana embalaža - Občina Ivančna Gorica
DESCRIPTION:KS Metnaj\, KS Stična\, KS Šentvid – naselja; Artiža vas\, Glagovica\, Velike Pece in Vrhpolje
URL:https://jkpg.si/vrsta-odvoza/mesana-embalaza-obcina-ivancna-gorica-93/
LOCATION:Občina Ivančna Gorica
CATEGORIES:Mešana embalaža
END:VEVENT
BEGIN:VEVENT
DTSTART;VALUE=DATE:20260416
DTEND;VALUE=DATE:20260417
DTSTAMP:20260420T190742
CREATED:20260317T135827Z
LAST-MODIFIED:20260325T091213Z
UID:10008008-1776297600-1776383999@jkpg.si
SUMMARY:Papir in karton - Občina Grosuplje
DESCRIPTION:KS Ilova Gora\, KS Mlačevo\, KS Račna\, KS Žalna\, KS Spodnja Slivnica\, KS Škocjan\, KS Št.Jurij\, KS Polica in KS Grosuplje-industrijska cona pod slivniškim hribom
URL:https://jkpg.si/vrsta-odvoza/papir-in-karton-obcina-grosuplje-108/
LOCATION:Občina Grosuplje
CATEGORIES:Papir in karton
END:VEVENT
BEGIN:VEVENT
DTSTART;VALUE=DATE:20260416
DTEND;VALUE=DATE:20260417
DTSTAMP:20260420T190742
CREATED:20260317T135826Z
LAST-MODIFIED:20260325T091213Z
UID:10008005-1776297600-1776383999@jkpg.si
SUMMARY:Mešana embalaža - Občina Grosuplje
DESCRIPTION:KS Ilova Gora\, KS Mlačevo\, KS Škocjan\, KS Št. Jurij\, KS Žalna\, KS Polica – naselje Dobje\, Dole pri Polici in Liparjev hrib
URL:https://jkpg.si/vrsta-odvoza/mesana-embalaza-obcina-grosuplje-105/
LOCATION:Občina Grosuplje
CATEGORIES:Mešana embalaža
END:VEVENT
BEGIN:VEVENT
DTSTART;VALUE=DATE:20260416
DTEND;VALUE=DATE:20260417
DTSTAMP:20260420T190742
CREATED:20260317T135826Z
LAST-MODIFIED:20260325T091213Z
UID:10008006-1776297600-1776383999@jkpg.si
SUMMARY:Biološki odpadki - Občina Grosuplje
DESCRIPTION:KS Polica
URL:https://jkpg.si/vrsta-odvoza/bioloski-odpadki-obcina-grosuplje-107/
LOCATION:Občina Grosuplje
CATEGORIES:Biološki odpadki
END:VEVENT
BEGIN:VEVENT
DTSTART;VALUE=DATE:20260416
DTEND;VALUE=DATE:20260417
DTSTAMP:20260420T190742
CREATED:20260317T135826Z
LAST-MODIFIED:20260317T135826Z
UID:10008007-1776297600-1776383999@jkpg.si
SUMMARY:Biološki odpadki - Občina Grosuplje
DESCRIPTION:KS Polica
URL:https://jkpg.si/vrsta-odvoza/bioloski-odpadki-obcina-grosuplje-108/
LOCATION:Občina Grosuplje
CATEGORIES:Biološki odpadki
END:VEVENT
BEGIN:VEVENT
DTSTART;VALUE=DATE:20260416
DTEND;VALUE=DATE:20260417
DTSTAMP:20260420T190742
CREATED:20260317T135626Z
LAST-MODIFIED:20260325T091012Z
UID:10008004-1776297600-1776383999@jkpg.si
SUMMARY:Papir in karton - Občina Dobrepolje
DESCRIPTION:Občina Dobrepolje
URL:https://jkpg.si/vrsta-odvoza/papir-in-karton-obcina-dobrepolje-37/
LOCATION:Občina Dobrepolje
CATEGORIES:Papir in karton
END:VEVENT
BEGIN:VEVENT
DTSTART;VALUE=DATE:20260416
DTEND;VALUE=DATE:20260417
DTSTAMP:20260420T190742
CREATED:20260317T135625Z
LAST-MODIFIED:20260325T091012Z
UID:10008003-1776297600-1776383999@jkpg.si
SUMMARY:Mešana embalaža - Občina Ivančna Gorica
DESCRIPTION:KS Šentvid – brez naselij; Artiža vas\, Glagovica\, Velike Pece in Vrhpolje
URL:https://jkpg.si/vrsta-odvoza/mesana-embalaza-obcina-ivancna-gorica-92/
LOCATION:Občina Ivančna Gorica
CATEGORIES:Mešana embalaža
END:VEVENT
BEGIN:VEVENT
DTSTART;VALUE=DATE:20260415
DTEND;VALUE=DATE:20260416
DTSTAMP:20260420T190742
CREATED:20260317T135625Z
LAST-MODIFIED:20260325T091012Z
UID:10008001-1776211200-1776297599@jkpg.si
SUMMARY:Mešana embalaža - Občina Grosuplje
DESCRIPTION:KS Spodnja Slivnica\, KS Šmarje-Sap in KS Račna
URL:https://jkpg.si/vrsta-odvoza/mesana-embalaza-obcina-grosuplje-103/
LOCATION:Občina Grosuplje
CATEGORIES:Mešana embalaža
END:VEVENT
BEGIN:VEVENT
DTSTART;VALUE=DATE:20260415
DTEND;VALUE=DATE:20260416
DTSTAMP:20260420T190742
CREATED:20260317T135625Z
LAST-MODIFIED:20260317T135625Z
UID:10008002-1776211200-1776297599@jkpg.si
SUMMARY:Mešana embalaža - Občina Grosuplje
DESCRIPTION:KS Spodnja Slivnica\, KS Šmarje-Sap in KS Račna
URL:https://jkpg.si/vrsta-odvoza/mesana-embalaza-obcina-grosuplje-104/
LOCATION:Občina Grosuplje
CATEGORIES:Mešana embalaža
END:VEVENT
BEGIN:VEVENT
DTSTART;VALUE=DATE:20260415
DTEND;VALUE=DATE:20260416
DTSTAMP:20260420T190742
CREATED:20260317T135625Z
LAST-MODIFIED:20260325T091012Z
UID:10008000-1776211200-1776297599@jkpg.si
SUMMARY:Papir in karton - Občina Ivančna Gorica
DESCRIPTION:Občina Ivančna Gorica
URL:https://jkpg.si/vrsta-odvoza/papir-in-karton-obcina-ivancna-gorica-36/
LOCATION:Občina Ivančna Gorica
CATEGORIES:Papir in karton
END:VEVENT
BEGIN:VEVENT
DTSTART;VALUE=DATE:20260415
DTEND;VALUE=DATE:20260416
DTSTAMP:20260420T190742
CREATED:20260317T135425Z
LAST-MODIFIED:20260325T090812Z
UID:10007999-1776211200-1776297599@jkpg.si
SUMMARY:Biološki odpadki - Občina Ivančna Gorica
DESCRIPTION:KS Ivančna Gorica\, KS Višnja Gora – naselja Višnja Gora
URL:https://jkpg.si/vrsta-odvoza/bioloski-odpadki-obcina-ivancna-gorica-56/
LOCATION:Občina Ivančna Gorica
CATEGORIES:Biološki odpadki
END:VEVENT
BEGIN:VEVENT
DTSTART;VALUE=DATE:20260415
DTEND;VALUE=DATE:20260416
DTSTAMP:20260420T190742
CREATED:20260317T135424Z
LAST-MODIFIED:20260325T090811Z
UID:10007998-1776211200-1776297599@jkpg.si
SUMMARY:Mešana embalaža - Občina Ivančna Gorica
DESCRIPTION:Naselje Spodnja Draga\, KS Dob\, KS Sobrače\, KS Temenica\, KS Muljava – naselja; Bojani Vrh\, Velike in Male Kompolje\, Sušica in Trebež
URL:https://jkpg.si/vrsta-odvoza/mesana-embalaza-obcina-ivancna-gorica-91/
LOCATION:Občina Ivančna Gorica
CATEGORIES:Mešana embalaža
END:VEVENT
BEGIN:VEVENT
DTSTART;VALUE=DATE:20260414
DTEND;VALUE=DATE:20260415
DTSTAMP:20260420T190742
CREATED:20260317T135424Z
LAST-MODIFIED:20260325T090811Z
UID:10007996-1776124800-1776211199@jkpg.si
SUMMARY:Mešana embalaža - Občina Grosuplje
DESCRIPTION:Grosuplje; območje južno od Adamičeve ceste\, KS Polica –  Mala Stara vas in Velika Stara vas
URL:https://jkpg.si/vrsta-odvoza/mesana-embalaza-obcina-grosuplje-102/
LOCATION:Občina Grosuplje
CATEGORIES:Mešana embalaža
END:VEVENT
BEGIN:VEVENT
DTSTART;VALUE=DATE:20260414
DTEND;VALUE=DATE:20260415
DTSTAMP:20260420T190742
CREATED:20260317T135424Z
LAST-MODIFIED:20260325T090811Z
UID:10007997-1776124800-1776211199@jkpg.si
SUMMARY:Biološki odpadki - Občina Grosuplje
DESCRIPTION:Grosuplje; območje severno od Adamičeve c.\, Perovo\, Jerova vas in Brvace\, brez Metelkovih\, Kajuhovih\, Valavazorjevih dvorov in Preske
URL:https://jkpg.si/vrsta-odvoza/bioloski-odpadki-obcina-grosuplje-106/
LOCATION:Občina Grosuplje
CATEGORIES:Biološki odpadki
END:VEVENT
BEGIN:VEVENT
DTSTART;VALUE=DATE:20260414
DTEND;VALUE=DATE:20260415
DTSTAMP:20260420T190742
CREATED:20260317T135409Z
LAST-MODIFIED:20260325T090811Z
UID:10007993-1776124800-1776211199@jkpg.si
SUMMARY:Steklena embalaža - Občina Grosuplje
DESCRIPTION:KS Grosuplje\, KS Šmarje-Sap\, KS Polica
URL:https://jkpg.si/vrsta-odvoza/steklena-embalaza-obcina-grosuplje-19/
LOCATION:Občina Grosuplje
CATEGORIES:Steklena embalaža
END:VEVENT
BEGIN:VEVENT
DTSTART;VALUE=DATE:20260414
DTEND;VALUE=DATE:20260415
DTSTAMP:20260420T190742
CREATED:20260317T135409Z
LAST-MODIFIED:20260325T090610Z
UID:10007994-1776124800-1776211199@jkpg.si
SUMMARY:Mešana embalaža - Občina Ivančna Gorica
DESCRIPTION:KS Ambrus\, KS Krka\, KS Višnja Gora\, KS Zagradec\, KS Muljava- brez naselij; Bojavni Vrh\, Velike in Male Kompolje\, Sušica in Trebež
URL:https://jkpg.si/vrsta-odvoza/mesana-embalaza-obcina-ivancna-gorica-90/
LOCATION:Občina Ivančna Gorica
CATEGORIES:Mešana embalaža
END:VEVENT
BEGIN:VEVENT
DTSTART;VALUE=DATE:20260414
DTEND;VALUE=DATE:20260415
DTSTAMP:20260420T190742
CREATED:20260317T135409Z
LAST-MODIFIED:20260325T090611Z
UID:10007995-1776124800-1776211199@jkpg.si
SUMMARY:Mešana embalaža - Občina Dobrepolje
DESCRIPTION:Naselje Hočevje
URL:https://jkpg.si/vrsta-odvoza/mesana-embalaza-obcina-dobrepolje-36/
LOCATION:Občina Dobrepolje
CATEGORIES:Mešana embalaža
END:VEVENT
BEGIN:VEVENT
DTSTART;VALUE=DATE:20260413
DTEND;VALUE=DATE:20260414
DTSTAMP:20260420T190742
CREATED:20260317T135409Z
LAST-MODIFIED:20260325T090610Z
UID:10007992-1776038400-1776124799@jkpg.si
SUMMARY:Papir in karton - Občina Grosuplje
DESCRIPTION:KS Grosuplje\, KS Šmarje-Sap
URL:https://jkpg.si/vrsta-odvoza/papir-in-karton-obcina-grosuplje-107/
LOCATION:Občina Grosuplje
CATEGORIES:Papir in karton
END:VEVENT
BEGIN:VEVENT
DTSTART;VALUE=DATE:20260413
DTEND;VALUE=DATE:20260414
DTSTAMP:20260420T190742
CREATED:20260317T135408Z
LAST-MODIFIED:20260325T090610Z
UID:10007991-1776038400-1776124799@jkpg.si
SUMMARY:Mešana embalaža - Občina Grosuplje
DESCRIPTION:Grosuplje; območje severno od Adamičeve c. in zahodno od potoka Grosupeljščica ter naselje Brvace.
URL:https://jkpg.si/vrsta-odvoza/mesana-embalaza-obcina-grosuplje-101/
LOCATION:Občina Grosuplje
CATEGORIES:Mešana embalaža
END:VEVENT
BEGIN:VEVENT
DTSTART;VALUE=DATE:20260413
DTEND;VALUE=DATE:20260414
DTSTAMP:20260420T190742
CREATED:20260317T135213Z
LAST-MODIFIED:20260325T090555Z
UID:10007989-1776038400-1776124799@jkpg.si
SUMMARY:Mešana embalaža - Občina Dobrepolje
DESCRIPTION:Vsa naselje v občini razen Hočevja
URL:https://jkpg.si/vrsta-odvoza/mesana-embalaza-obcina-dobrepolje-35/
LOCATION:Občina Dobrepolje
CATEGORIES:Mešana embalaža
END:VEVENT
BEGIN:VEVENT
DTSTART;VALUE=DATE:20260413
DTEND;VALUE=DATE:20260414
DTSTAMP:20260420T190742
CREATED:20260317T135213Z
LAST-MODIFIED:20260325T090555Z
UID:10007990-1776038400-1776124799@jkpg.si
SUMMARY:Steklena embalaža - Občina Dobrepolje
DESCRIPTION:Občina Dobrepolje
URL:https://jkpg.si/vrsta-odvoza/steklena-embalaza-obcina-dobrepolje-19/
LOCATION:Občina Dobrepolje
CATEGORIES:Steklena embalaža
END:VEVENT
BEGIN:VEVENT
DTSTART;VALUE=DATE:20260413
DTEND;VALUE=DATE:20260414
DTSTAMP:20260420T190742
CREATED:20260317T135212Z
LAST-MODIFIED:20260325T090555Z
UID:10007988-1776038400-1776124799@jkpg.si
SUMMARY:Biološki odpadki - Občina Ivančna Gorica
DESCRIPTION:KS Dob\, KS Šentvid\, KS Stična\, KS Metnaj\, KS Muljava\, KS Krka\, KS Zagradec\, KS Ambrus\, KS Sobtače\, KSTemenica\, KS Višnja Gora – okolica\, brez naselja Višnja Gora.
URL:https://jkpg.si/vrsta-odvoza/bioloski-odpadki-obcina-ivancna-gorica-55/
LOCATION:Občina Ivančna Gorica
CATEGORIES:Biološki odpadki
END:VEVENT
BEGIN:VEVENT
DTSTART;VALUE=DATE:20260413
DTEND;VALUE=DATE:20260414
DTSTAMP:20260420T190742
CREATED:20260317T135212Z
LAST-MODIFIED:20260325T090555Z
UID:10007987-1776038400-1776124799@jkpg.si
SUMMARY:Mešana embalaža - Občina Ivančna Gorica
DESCRIPTION:KS Ivančna Gorica\, brez naselja Spodnja Draga
URL:https://jkpg.si/vrsta-odvoza/mesana-embalaza-obcina-ivancna-gorica-89/
LOCATION:Občina Ivančna Gorica
CATEGORIES:Mešana embalaža
END:VEVENT
BEGIN:VEVENT
DTSTART;TZID=Europe/Ljubljana:20260411T133000
DTEND;TZID=Europe/Ljubljana:20260411T140000
DTSTAMP:20260420T190742
CREATED:20260317T094417Z
LAST-MODIFIED:20260325T090449Z
UID:10007862-1775914200-1775916000@jkpg.si
SUMMARY:Odpadna električna in elektronska oprema - Občina Ivančna Gorica
DESCRIPTION:STIČNA – na glavni avtobusni postaji
URL:https://jkpg.si/vrsta-odvoza/odpadna-elektricna-in-elektronska-oprema-obcina-ivancna-gorica-11/
LOCATION:Občina Ivančna Gorica
CATEGORIES:Odpadna električna in elektronska oprema
END:VEVENT
BEGIN:VEVENT
DTSTART;TZID=Europe/Ljubljana:20260411T124500
DTEND;TZID=Europe/Ljubljana:20260411T124500
DTSTAMP:20260420T190742
CREATED:20260317T094416Z
LAST-MODIFIED:20260325T090449Z
UID:10007861-1775911500-1775911500@jkpg.si
SUMMARY:Odpadna električna in elektronska oprema - Občina Ivančna Gorica
DESCRIPTION:MLEŠČEVO – pri ekološkem otoku
URL:https://jkpg.si/vrsta-odvoza/odpadna-elektricna-in-elektronska-oprema-obcina-ivancna-gorica-10/
LOCATION:Občina Ivančna Gorica
CATEGORIES:Odpadna električna in elektronska oprema
END:VEVENT
BEGIN:VEVENT
DTSTART;TZID=Europe/Ljubljana:20260411T123000
DTEND;TZID=Europe/Ljubljana:20260411T130000
DTSTAMP:20260420T190742
CREATED:20260317T094446Z
LAST-MODIFIED:20260325T090555Z
UID:10007870-1775910600-1775912400@jkpg.si
SUMMARY:Odpadna električna in elektronska oprema - Občina Ivančna Gorica
DESCRIPTION:VRH NAD VIŠNJO GORO – pri gasilskem domu
URL:https://jkpg.si/vrsta-odvoza/odpadna-elektricna-in-elektronska-oprema-obcina-ivancna-gorica-19/
LOCATION:Občina Ivančna Gorica
CATEGORIES:Odpadna električna in elektronska oprema
END:VEVENT
END:VCALENDAR