BEGIN:VCALENDAR
VERSION:2.0
PRODID:-//Javno komunalno podjetje Grosuplje - ECPv6.9.1//NONSGML v1.0//EN
CALSCALE:GREGORIAN
METHOD:PUBLISH
X-WR-CALNAME:Javno komunalno podjetje Grosuplje
X-ORIGINAL-URL:https://jkpg.si
X-WR-CALDESC:Dogodki za Javno komunalno podjetje Grosuplje
REFRESH-INTERVAL;VALUE=DURATION:PT1H
X-Robots-Tag:noindex
X-PUBLISHED-TTL:PT1H
BEGIN:VTIMEZONE
TZID:Europe/Ljubljana
BEGIN:DAYLIGHT
TZOFFSETFROM:+0100
TZOFFSETTO:+0200
TZNAME:CEST
DTSTART:20260329T010000
END:DAYLIGHT
BEGIN:STANDARD
TZOFFSETFROM:+0200
TZOFFSETTO:+0100
TZNAME:CET
DTSTART:20261025T010000
END:STANDARD
END:VTIMEZONE
BEGIN:VEVENT
DTSTART;VALUE=DATE:20260427
DTEND;VALUE=DATE:20260428
DTSTAMP:20260421T031414
CREATED:20260317T140422Z
LAST-MODIFIED:20260325T092605Z
UID:10008043-1777248000-1777334399@jkpg.si
SUMMARY:Steklena embalaža - Občina Dobrepolje
DESCRIPTION:Občina Dobrepolje
URL:https://jkpg.si/vrsta-odvoza/steklena-embalaza-obcina-dobrepolje-20/
LOCATION:Občina Dobrepolje
CATEGORIES:Steklena embalaža
END:VEVENT
BEGIN:VEVENT
DTSTART;VALUE=DATE:20260428
DTEND;VALUE=DATE:20260429
DTSTAMP:20260421T031414
CREATED:20260317T140623Z
LAST-MODIFIED:20260325T092708Z
UID:10008046-1777334400-1777420799@jkpg.si
SUMMARY:Steklena embalaža - Občina Grosuplje
DESCRIPTION:KS Grosuplje\, KS Šmarje-Sap\, KS Polica
URL:https://jkpg.si/vrsta-odvoza/steklena-embalaza-obcina-grosuplje-20/
LOCATION:Občina Grosuplje
CATEGORIES:Steklena embalaža
END:VEVENT
END:VCALENDAR