BEGIN:VCALENDAR
VERSION:2.0
PRODID:-//Javno komunalno podjetje Grosuplje - ECPv6.9.1//NONSGML v1.0//EN
CALSCALE:GREGORIAN
METHOD:PUBLISH
X-WR-CALNAME:Javno komunalno podjetje Grosuplje
X-ORIGINAL-URL:https://jkpg.si
X-WR-CALDESC:Dogodki za Javno komunalno podjetje Grosuplje
REFRESH-INTERVAL;VALUE=DURATION:PT1H
X-Robots-Tag:noindex
X-PUBLISHED-TTL:PT1H
BEGIN:VTIMEZONE
TZID:Europe/Ljubljana
BEGIN:DAYLIGHT
TZOFFSETFROM:+0100
TZOFFSETTO:+0200
TZNAME:CEST
DTSTART:20260329T010000
END:DAYLIGHT
BEGIN:STANDARD
TZOFFSETFROM:+0200
TZOFFSETTO:+0100
TZNAME:CET
DTSTART:20261025T010000
END:STANDARD
END:VTIMEZONE
BEGIN:VEVENT
DTSTART;VALUE=DATE:20260406
DTEND;VALUE=DATE:20260407
DTSTAMP:20260420T223006
CREATED:20260317T134139Z
LAST-MODIFIED:20260325T090004Z
UID:10007964-1775433600-1775519999@jkpg.si
SUMMARY:Preostanek odpadkov - Občina Grosuplje
DESCRIPTION:Grosuplje; območje severno od Adamičeve c. in zahodno od potoka Grosupeljščica ter naselje Brvace
URL:https://jkpg.si/vrsta-odvoza/preostanek-odpadkov-obcina-grosuplje-94/
LOCATION:Občina Grosuplje
CATEGORIES:Preostanek odpadkov
END:VEVENT
BEGIN:VEVENT
DTSTART;VALUE=DATE:20260406
DTEND;VALUE=DATE:20260407
DTSTAMP:20260420T223006
CREATED:20260317T134139Z
LAST-MODIFIED:20260325T090004Z
UID:10007962-1775433600-1775519999@jkpg.si
SUMMARY:Preostanek odpadkov - Občina Ivančna Gorica
DESCRIPTION:KS Ivančna Gorica\, brez naselja Spodnja Draga
URL:https://jkpg.si/vrsta-odvoza/preostanek-odpadkov-obcina-ivancna-gorica-83/
LOCATION:Občina Ivančna Gorica
CATEGORIES:Preostanek odpadkov
END:VEVENT
BEGIN:VEVENT
DTSTART;VALUE=DATE:20260406
DTEND;VALUE=DATE:20260407
DTSTAMP:20260420T223006
CREATED:20260317T134139Z
LAST-MODIFIED:20260325T090004Z
UID:10007963-1775433600-1775519999@jkpg.si
SUMMARY:Preostanek odpadkov - Občina Dobrepolje
DESCRIPTION:Vsa naselje v občini razen Hočevja
URL:https://jkpg.si/vrsta-odvoza/preostanek-odpadkov-obcina-dobrepolje-33/
LOCATION:Občina Dobrepolje
CATEGORIES:Preostanek odpadkov
END:VEVENT
BEGIN:VEVENT
DTSTART;VALUE=DATE:20260407
DTEND;VALUE=DATE:20260408
DTSTAMP:20260420T223007
CREATED:20260317T134154Z
LAST-MODIFIED:20260325T090123Z
UID:10007968-1775520000-1775606399@jkpg.si
SUMMARY:Preostanek odpadkov - Občina Dobrepolje
DESCRIPTION:Naselje Hočevje
URL:https://jkpg.si/vrsta-odvoza/preostanek-odpadkov-obcina-dobrepolje-34/
LOCATION:Občina Dobrepolje
CATEGORIES:Preostanek odpadkov
END:VEVENT
BEGIN:VEVENT
DTSTART;VALUE=DATE:20260407
DTEND;VALUE=DATE:20260408
DTSTAMP:20260420T223007
CREATED:20260317T134154Z
LAST-MODIFIED:20260325T090123Z
UID:10007967-1775520000-1775606399@jkpg.si
SUMMARY:Preostanek odpadkov - Občina Ivančna Gorica
DESCRIPTION:KS Ambrus\, KS Krka\, KS Višnja Gora\, KS Zagradec\, KS Muljava- brez naselij; Bojavni Vrh\, Velike in Male Kompolje\, Sušica in Trebež
URL:https://jkpg.si/vrsta-odvoza/preostanek-odpadkov-obcina-ivancna-gorica-84/
LOCATION:Občina Ivančna Gorica
CATEGORIES:Preostanek odpadkov
END:VEVENT
BEGIN:VEVENT
DTSTART;VALUE=DATE:20260407
DTEND;VALUE=DATE:20260408
DTSTAMP:20260420T223007
CREATED:20260317T134240Z
LAST-MODIFIED:20260325T090138Z
UID:10007971-1775520000-1775606399@jkpg.si
SUMMARY:Preostanek odpadkov - Občina Grosuplje
DESCRIPTION:Grosuplje; območje južno od Adamičeve ceste\, KS Polica –  Mala Stara vas in Velika Stara vas
URL:https://jkpg.si/vrsta-odvoza/preostanek-odpadkov-obcina-grosuplje-95/
LOCATION:Občina Grosuplje
CATEGORIES:Preostanek odpadkov
END:VEVENT
BEGIN:VEVENT
DTSTART;VALUE=DATE:20260408
DTEND;VALUE=DATE:20260409
DTSTAMP:20260420T223007
CREATED:20260317T134240Z
LAST-MODIFIED:20260325T090307Z
UID:10007975-1775606400-1775692799@jkpg.si
SUMMARY:Preostanek odpadkov - Občina Grosuplje
DESCRIPTION:KS Spodnja Slivnica\, KS Šmarje-Sap in KS Račna
URL:https://jkpg.si/vrsta-odvoza/preostanek-odpadkov-obcina-grosuplje-96/
LOCATION:Občina Grosuplje
CATEGORIES:Preostanek odpadkov
END:VEVENT
BEGIN:VEVENT
DTSTART;VALUE=DATE:20260408
DTEND;VALUE=DATE:20260409
DTSTAMP:20260420T223007
CREATED:20260317T134240Z
LAST-MODIFIED:20260325T090138Z
UID:10007972-1775606400-1775692799@jkpg.si
SUMMARY:Preostanek odpadkov - Občina Ivančna Gorica
DESCRIPTION:Naselje Spodnja Draga\, KS Dob\, KS Sobrače\, KS Temenica\, KS Muljava – naselja; Bojani Vrh\, Velike in Male Kompolje\, Sušica in Trebež
URL:https://jkpg.si/vrsta-odvoza/preostanek-odpadkov-obcina-ivancna-gorica-85/
LOCATION:Občina Ivančna Gorica
CATEGORIES:Preostanek odpadkov
END:VEVENT
BEGIN:VEVENT
DTSTART;VALUE=DATE:20260409
DTEND;VALUE=DATE:20260410
DTSTAMP:20260420T223007
CREATED:20260317T134258Z
LAST-MODIFIED:20260325T090307Z
UID:10007976-1775692800-1775779199@jkpg.si
SUMMARY:Preostanek odpadkov - Občina Ivančna Gorica
DESCRIPTION:KS Šentvid – brez naselij; Artiža vas\, Glagovica\, Velike Pece in Vrhpolje
URL:https://jkpg.si/vrsta-odvoza/preostanek-odpadkov-obcina-ivancna-gorica-86/
LOCATION:Občina Ivančna Gorica
CATEGORIES:Preostanek odpadkov
END:VEVENT
BEGIN:VEVENT
DTSTART;VALUE=DATE:20260409
DTEND;VALUE=DATE:20260410
DTSTAMP:20260420T223007
CREATED:20260317T134459Z
LAST-MODIFIED:20260325T090322Z
UID:10007980-1775692800-1775779199@jkpg.si
SUMMARY:Preostanek odpadkov - Občina Grosuplje
DESCRIPTION:KS Ilova Gora\, KS Mlačevo\, KS Škocjan\, KS Št. Jurij\, KS Žalna\, KS Polica – naselje Dobje\, Dole pri Polici in Liparjev hrib
URL:https://jkpg.si/vrsta-odvoza/preostanek-odpadkov-obcina-grosuplje-97/
LOCATION:Občina Grosuplje
CATEGORIES:Preostanek odpadkov
END:VEVENT
BEGIN:VEVENT
DTSTART;VALUE=DATE:20260410
DTEND;VALUE=DATE:20260411
DTSTAMP:20260420T223007
CREATED:20260317T134459Z
LAST-MODIFIED:20260325T090322Z
UID:10007982-1775779200-1775865599@jkpg.si
SUMMARY:Preostanek odpadkov - Občina Ivančna Gorica
DESCRIPTION:KS Metnaj\, KS Stična\, KS Šentvid – naselja; Artiža vas\, Glagovica\, Velike Pece in Vrhpolje
URL:https://jkpg.si/vrsta-odvoza/preostanek-odpadkov-obcina-ivancna-gorica-87/
LOCATION:Občina Ivančna Gorica
CATEGORIES:Preostanek odpadkov
END:VEVENT
BEGIN:VEVENT
DTSTART;VALUE=DATE:20260410
DTEND;VALUE=DATE:20260411
DTSTAMP:20260420T223007
CREATED:20260317T134500Z
LAST-MODIFIED:20260325T090322Z
UID:10007983-1775779200-1775865599@jkpg.si
SUMMARY:Preostanek odpadkov - Občina Grosuplje
DESCRIPTION:Grosuplje; večstanovanjske stavbe\, Sončni dvori\, šole\, vrtci\, Zdravstveni dom\, KS Polica – brez naselja Mala Stara vas\, Velika Stara vas\, Dobje\, Dole pri Polici in Liparjev hrib
URL:https://jkpg.si/vrsta-odvoza/preostanek-odpadkov-obcina-grosuplje-98/
LOCATION:Občina Grosuplje
CATEGORIES:Preostanek odpadkov
END:VEVENT
END:VCALENDAR