BEGIN:VCALENDAR
VERSION:2.0
PRODID:-//Javno komunalno podjetje Grosuplje - ECPv6.9.1//NONSGML v1.0//EN
CALSCALE:GREGORIAN
METHOD:PUBLISH
X-WR-CALNAME:Javno komunalno podjetje Grosuplje
X-ORIGINAL-URL:https://jkpg.si
X-WR-CALDESC:Dogodki za Javno komunalno podjetje Grosuplje
REFRESH-INTERVAL;VALUE=DURATION:PT1H
X-Robots-Tag:noindex
X-PUBLISHED-TTL:PT1H
BEGIN:VTIMEZONE
TZID:Europe/Ljubljana
BEGIN:DAYLIGHT
TZOFFSETFROM:+0100
TZOFFSETTO:+0200
TZNAME:CEST
DTSTART:20260329T010000
END:DAYLIGHT
BEGIN:STANDARD
TZOFFSETFROM:+0200
TZOFFSETTO:+0100
TZNAME:CET
DTSTART:20261025T010000
END:STANDARD
END:VTIMEZONE
BEGIN:VEVENT
DTSTART;VALUE=DATE:20260507
DTEND;VALUE=DATE:20260508
DTSTAMP:20260420T220922
CREATED:20260417T074840Z
LAST-MODIFIED:20260417T074840Z
UID:10008082-1778112000-1778198399@jkpg.si
SUMMARY:Preostanek odpadkov - Občina Ivančna Gorica
DESCRIPTION:KS Šentvid – brez naselij; Artiža vas\, Glagovica\, Velike Pece in Vrhpolje
URL:https://jkpg.si/vrsta-odvoza/preostanek-odpadkov-obcina-ivancna-gorica-96/
LOCATION:Občina Ivančna Gorica
CATEGORIES:Preostanek odpadkov
END:VEVENT
BEGIN:VEVENT
DTSTART;VALUE=DATE:20260507
DTEND;VALUE=DATE:20260508
DTSTAMP:20260420T220922
CREATED:20260417T074840Z
LAST-MODIFIED:20260417T074840Z
UID:10008086-1778112000-1778198399@jkpg.si
SUMMARY:Preostanek odpadkov - Občina Grosuplje
DESCRIPTION:KS Ilova Gora\, KS Mlačevo\, KS Škocjan\, KS Št. Jurij\, KS Žalna\, KS Polica – naselje Dobje\, Dole pri Polici in Liparjev hrib
URL:https://jkpg.si/vrsta-odvoza/preostanek-odpadkov-obcina-grosuplje-109/
LOCATION:Občina Grosuplje
CATEGORIES:Preostanek odpadkov
END:VEVENT
END:VCALENDAR