BEGIN:VCALENDAR
VERSION:2.0
PRODID:-//Javno komunalno podjetje Grosuplje - ECPv6.9.1//NONSGML v1.0//EN
CALSCALE:GREGORIAN
METHOD:PUBLISH
X-ORIGINAL-URL:https://jkpg.si
X-WR-CALDESC:Dogodki za Javno komunalno podjetje Grosuplje
REFRESH-INTERVAL;VALUE=DURATION:PT1H
X-Robots-Tag:noindex
X-PUBLISHED-TTL:PT1H
BEGIN:VTIMEZONE
TZID:Europe/Ljubljana
BEGIN:DAYLIGHT
TZOFFSETFROM:+0100
TZOFFSETTO:+0200
TZNAME:CEST
DTSTART:20260329T010000
END:DAYLIGHT
BEGIN:STANDARD
TZOFFSETFROM:+0200
TZOFFSETTO:+0100
TZNAME:CET
DTSTART:20261025T010000
END:STANDARD
END:VTIMEZONE
BEGIN:VEVENT
DTSTART;VALUE=DATE:20260323
DTEND;VALUE=DATE:20260324
DTSTAMP:20260421T074203
CREATED:20260218T072900Z
LAST-MODIFIED:20260218T102609Z
UID:10007733-1774224000-1774310399@jkpg.si
SUMMARY:Papir in karton - Občina Grosuplje
DESCRIPTION:KS Grosuplje\, KS Šmarje-Sap
URL:https://jkpg.si/vrsta-odvoza/papir-in-karton-obcina-grosuplje-85/
LOCATION:Občina Grosuplje
CATEGORIES:Papir in karton
END:VEVENT
BEGIN:VEVENT
DTSTART;VALUE=DATE:20260325
DTEND;VALUE=DATE:20260326
DTSTAMP:20260421T074203
CREATED:20260218T072905Z
LAST-MODIFIED:20260218T102642Z
UID:10007740-1774396800-1774483199@jkpg.si
SUMMARY:Papir in karton - Občina Ivančna Gorica
DESCRIPTION:Občina Ivančna Gorica
URL:https://jkpg.si/vrsta-odvoza/papir-in-karton-obcina-ivancna-gorica-28/
LOCATION:Občina Ivančna Gorica
CATEGORIES:Papir in karton
END:VEVENT
BEGIN:VEVENT
DTSTART;VALUE=DATE:20260326
DTEND;VALUE=DATE:20260327
DTSTAMP:20260421T074203
CREATED:20260218T072916Z
LAST-MODIFIED:20260218T102657Z
UID:10007745-1774483200-1774569599@jkpg.si
SUMMARY:Papir in karton - Občina Dobrepolje
DESCRIPTION:Občina Dobrepolje
URL:https://jkpg.si/vrsta-odvoza/papir-in-karton-obcina-dobrepolje-29/
LOCATION:Občina Dobrepolje
CATEGORIES:Papir in karton
END:VEVENT
BEGIN:VEVENT
DTSTART;VALUE=DATE:20260326
DTEND;VALUE=DATE:20260327
DTSTAMP:20260421T074203
CREATED:20260218T072921Z
LAST-MODIFIED:20260218T102744Z
UID:10007748-1774483200-1774569599@jkpg.si
SUMMARY:Papir in karton - Občina Grosuplje
DESCRIPTION:KS Ilova Gora\, KS Mlačevo\, KS Račna\, KS Žalna\, KS Spodnja Slivnica\, KS Škocjan\, KS Št.Jurij\, KS Polica in KS Grosuplje-industrijska cona pod slivniškim hribom
URL:https://jkpg.si/vrsta-odvoza/papir-in-karton-obcina-grosuplje-86/
LOCATION:Občina Grosuplje
CATEGORIES:Papir in karton
END:VEVENT
BEGIN:VEVENT
DTSTART;VALUE=DATE:20260327
DTEND;VALUE=DATE:20260328
DTSTAMP:20260421T074203
CREATED:20260218T072932Z
LAST-MODIFIED:20260218T102802Z
UID:10007753-1774569600-1774655999@jkpg.si
SUMMARY:Papir in karton - Občina Grosuplje
DESCRIPTION:KS Šmarje-Sap\, KS Grosuplje – brez industrijske cone pod slivniškim hribom
URL:https://jkpg.si/vrsta-odvoza/papir-in-karton-obcina-grosuplje-87/
LOCATION:Občina Grosuplje
CATEGORIES:Papir in karton
END:VEVENT
END:VCALENDAR