BEGIN:VCALENDAR
VERSION:2.0
PRODID:-//Javno komunalno podjetje Grosuplje - ECPv6.9.1//NONSGML v1.0//EN
CALSCALE:GREGORIAN
METHOD:PUBLISH
X-WR-CALNAME:Javno komunalno podjetje Grosuplje
X-ORIGINAL-URL:https://jkpg.si
X-WR-CALDESC:Dogodki za Javno komunalno podjetje Grosuplje
REFRESH-INTERVAL;VALUE=DURATION:PT1H
X-Robots-Tag:noindex
X-PUBLISHED-TTL:PT1H
BEGIN:VTIMEZONE
TZID:Europe/Ljubljana
BEGIN:DAYLIGHT
TZOFFSETFROM:+0100
TZOFFSETTO:+0200
TZNAME:CEST
DTSTART:20260329T010000
END:DAYLIGHT
BEGIN:STANDARD
TZOFFSETFROM:+0200
TZOFFSETTO:+0100
TZNAME:CET
DTSTART:20261025T010000
END:STANDARD
END:VTIMEZONE
BEGIN:VEVENT
DTSTART;VALUE=DATE:20260507
DTEND;VALUE=DATE:20260508
DTSTAMP:20260420T235309
CREATED:20260417T074840Z
LAST-MODIFIED:20260417T074840Z
UID:10008083-1778112000-1778198399@jkpg.si
SUMMARY:Papir in karton - Občina Dobrepolje
DESCRIPTION:Občina Dobrepolje
URL:https://jkpg.si/vrsta-odvoza/papir-in-karton-obcina-dobrepolje-40/
LOCATION:Občina Dobrepolje
CATEGORIES:Papir in karton
END:VEVENT
BEGIN:VEVENT
DTSTART;VALUE=DATE:20260507
DTEND;VALUE=DATE:20260508
DTSTAMP:20260420T235309
CREATED:20260417T074855Z
LAST-MODIFIED:20260417T074855Z
UID:10008087-1778112000-1778198399@jkpg.si
SUMMARY:Papir in karton - Občina Grosuplje
DESCRIPTION:KS Ilova Gora\, KS Mlačevo\, KS Račna\, KS Žalna\, KS Spodnja Slivnica\, KS Škocjan\, KS Št.Jurij\, KS Polica in KS Grosuplje-industrijska cona pod slivniškim hribom
URL:https://jkpg.si/vrsta-odvoza/papir-in-karton-obcina-grosuplje-117/
LOCATION:Občina Grosuplje
CATEGORIES:Papir in karton
END:VEVENT
BEGIN:VEVENT
DTSTART;VALUE=DATE:20260508
DTEND;VALUE=DATE:20260509
DTSTAMP:20260420T235309
CREATED:20260417T074917Z
LAST-MODIFIED:20260417T074917Z
UID:10008092-1778198400-1778284799@jkpg.si
SUMMARY:Papir in karton - Občina Grosuplje
DESCRIPTION:KS Šmarje-Sap\, KS Grosuplje – brez industrijske cone pod slivniškim hribom
URL:https://jkpg.si/vrsta-odvoza/papir-in-karton-obcina-grosuplje-118/
LOCATION:Občina Grosuplje
CATEGORIES:Papir in karton
END:VEVENT
BEGIN:VEVENT
DTSTART;VALUE=DATE:20260511
DTEND;VALUE=DATE:20260512
DTSTAMP:20260420T235309
CREATED:20260417T075335Z
LAST-MODIFIED:20260417T075335Z
UID:10008107-1778457600-1778543999@jkpg.si
SUMMARY:Papir in karton - Občina Grosuplje
DESCRIPTION:KS Grosuplje\, KS Šmarje-Sap
URL:https://jkpg.si/vrsta-odvoza/papir-in-karton-obcina-grosuplje-119/
LOCATION:Občina Grosuplje
CATEGORIES:Papir in karton
END:VEVENT
BEGIN:VEVENT
DTSTART;VALUE=DATE:20260513
DTEND;VALUE=DATE:20260514
DTSTAMP:20260420T235309
CREATED:20260417T075536Z
LAST-MODIFIED:20260417T075536Z
UID:10008115-1778630400-1778716799@jkpg.si
SUMMARY:Papir in karton - Občina Ivančna Gorica
DESCRIPTION:Občina Ivančna Gorica
URL:https://jkpg.si/vrsta-odvoza/papir-in-karton-obcina-ivancna-gorica-40/
LOCATION:Občina Ivančna Gorica
CATEGORIES:Papir in karton
END:VEVENT
BEGIN:VEVENT
DTSTART;VALUE=DATE:20260514
DTEND;VALUE=DATE:20260515
DTSTAMP:20260420T235309
CREATED:20260417T075737Z
LAST-MODIFIED:20260417T075737Z
UID:10008119-1778716800-1778803199@jkpg.si
SUMMARY:Papir in karton - Občina Dobrepolje
DESCRIPTION:Občina Dobrepolje
URL:https://jkpg.si/vrsta-odvoza/papir-in-karton-obcina-dobrepolje-41/
LOCATION:Občina Dobrepolje
CATEGORIES:Papir in karton
END:VEVENT
BEGIN:VEVENT
DTSTART;VALUE=DATE:20260514
DTEND;VALUE=DATE:20260515
DTSTAMP:20260420T235309
CREATED:20260417T075938Z
LAST-MODIFIED:20260417T075938Z
UID:10008123-1778716800-1778803199@jkpg.si
SUMMARY:Papir in karton - Občina Grosuplje
DESCRIPTION:KS Ilova Gora\, KS Mlačevo\, KS Račna\, KS Žalna\, KS Spodnja Slivnica\, KS Škocjan\, KS Št.Jurij\, KS Polica in KS Grosuplje-industrijska cona pod slivniškim hribom
URL:https://jkpg.si/vrsta-odvoza/papir-in-karton-obcina-grosuplje-120/
LOCATION:Občina Grosuplje
CATEGORIES:Papir in karton
END:VEVENT
BEGIN:VEVENT
DTSTART;VALUE=DATE:20260515
DTEND;VALUE=DATE:20260516
DTSTAMP:20260420T235309
CREATED:20260417T080426Z
LAST-MODIFIED:20260417T080426Z
UID:10008128-1778803200-1778889599@jkpg.si
SUMMARY:Papir in karton - Občina Grosuplje
DESCRIPTION:KS Šmarje-Sap\, KS Grosuplje – brez industrijske cone pod slivniškim hribom
URL:https://jkpg.si/vrsta-odvoza/papir-in-karton-obcina-grosuplje-121/
LOCATION:Občina Grosuplje
CATEGORIES:Papir in karton
END:VEVENT
BEGIN:VEVENT
DTSTART;VALUE=DATE:20260518
DTEND;VALUE=DATE:20260519
DTSTAMP:20260420T235309
CREATED:20260417T080442Z
LAST-MODIFIED:20260417T080442Z
UID:10008133-1779062400-1779148799@jkpg.si
SUMMARY:Papir in karton - Občina Grosuplje
DESCRIPTION:KS Grosuplje\, KS Šmarje-Sap
URL:https://jkpg.si/vrsta-odvoza/papir-in-karton-obcina-grosuplje-122/
LOCATION:Občina Grosuplje
CATEGORIES:Papir in karton
END:VEVENT
BEGIN:VEVENT
DTSTART;VALUE=DATE:20260520
DTEND;VALUE=DATE:20260521
DTSTAMP:20260420T235309
CREATED:20260417T080643Z
LAST-MODIFIED:20260417T080643Z
UID:10008140-1779235200-1779321599@jkpg.si
SUMMARY:Papir in karton - Občina Ivančna Gorica
DESCRIPTION:Občina Ivančna Gorica
URL:https://jkpg.si/vrsta-odvoza/papir-in-karton-obcina-ivancna-gorica-41/
LOCATION:Občina Ivančna Gorica
CATEGORIES:Papir in karton
END:VEVENT
BEGIN:VEVENT
DTSTART;VALUE=DATE:20260521
DTEND;VALUE=DATE:20260522
DTSTAMP:20260420T235309
CREATED:20260417T080844Z
LAST-MODIFIED:20260417T080844Z
UID:10008145-1779321600-1779407999@jkpg.si
SUMMARY:Papir in karton - Občina Dobrepolje
DESCRIPTION:Občina Dobrepolje
URL:https://jkpg.si/vrsta-odvoza/papir-in-karton-obcina-dobrepolje-42/
LOCATION:Občina Dobrepolje
CATEGORIES:Papir in karton
END:VEVENT
BEGIN:VEVENT
DTSTART;VALUE=DATE:20260521
DTEND;VALUE=DATE:20260522
DTSTAMP:20260420T235309
CREATED:20260417T081045Z
LAST-MODIFIED:20260417T081045Z
UID:10008149-1779321600-1779407999@jkpg.si
SUMMARY:Papir in karton - Občina Grosuplje
DESCRIPTION:KS Ilova Gora\, KS Mlačevo\, KS Račna\, KS Žalna\, KS Spodnja Slivnica\, KS Škocjan\, KS Št.Jurij\, KS Polica in KS Grosuplje-industrijska cona pod slivniškim hribom
URL:https://jkpg.si/vrsta-odvoza/papir-in-karton-obcina-grosuplje-123/
LOCATION:Občina Grosuplje
CATEGORIES:Papir in karton
END:VEVENT
BEGIN:VEVENT
DTSTART;VALUE=DATE:20260522
DTEND;VALUE=DATE:20260523
DTSTAMP:20260420T235309
CREATED:20260417T081246Z
LAST-MODIFIED:20260417T081246Z
UID:10008154-1779408000-1779494399@jkpg.si
SUMMARY:Papir in karton - Občina Grosuplje
DESCRIPTION:KS Šmarje-Sap\, KS Grosuplje – brez industrijske cone pod slivniškim hribom
URL:https://jkpg.si/vrsta-odvoza/papir-in-karton-obcina-grosuplje-124/
LOCATION:Občina Grosuplje
CATEGORIES:Papir in karton
END:VEVENT
BEGIN:VEVENT
DTSTART;VALUE=DATE:20260525
DTEND;VALUE=DATE:20260526
DTSTAMP:20260420T235309
CREATED:20260417T085748Z
LAST-MODIFIED:20260417T085748Z
UID:10008160-1779667200-1779753599@jkpg.si
SUMMARY:Papir in karton - Občina Grosuplje
DESCRIPTION:KS Grosuplje\, KS Šmarje-Sap
URL:https://jkpg.si/vrsta-odvoza/papir-in-karton-obcina-grosuplje-125/
LOCATION:Občina Grosuplje
CATEGORIES:Papir in karton
END:VEVENT
BEGIN:VEVENT
DTSTART;VALUE=DATE:20260527
DTEND;VALUE=DATE:20260528
DTSTAMP:20260420T235309
CREATED:20260417T085817Z
LAST-MODIFIED:20260417T085817Z
UID:10008168-1779840000-1779926399@jkpg.si
SUMMARY:Papir in karton - Občina Ivančna Gorica
DESCRIPTION:Občina Ivančna Gorica
URL:https://jkpg.si/vrsta-odvoza/papir-in-karton-obcina-ivancna-gorica-42/
LOCATION:Občina Ivančna Gorica
CATEGORIES:Papir in karton
END:VEVENT
BEGIN:VEVENT
DTSTART;VALUE=DATE:20260528
DTEND;VALUE=DATE:20260529
DTSTAMP:20260420T235309
CREATED:20260417T085832Z
LAST-MODIFIED:20260417T085832Z
UID:10008171-1779926400-1780012799@jkpg.si
SUMMARY:Papir in karton - Občina Dobrepolje
DESCRIPTION:Občina Dobrepolje
URL:https://jkpg.si/vrsta-odvoza/papir-in-karton-obcina-dobrepolje-43/
LOCATION:Občina Dobrepolje
CATEGORIES:Papir in karton
END:VEVENT
BEGIN:VEVENT
DTSTART;VALUE=DATE:20260528
DTEND;VALUE=DATE:20260529
DTSTAMP:20260420T235309
CREATED:20260417T090029Z
LAST-MODIFIED:20260417T090029Z
UID:10008174-1779926400-1780012799@jkpg.si
SUMMARY:Papir in karton - Občina Grosuplje
DESCRIPTION:KS Ilova Gora\, KS Mlačevo\, KS Račna\, KS Žalna\, KS Spodnja Slivnica\, KS Škocjan\, KS Št.Jurij\, KS Polica in KS Grosuplje-industrijska cona pod slivniškim hribom
URL:https://jkpg.si/vrsta-odvoza/papir-in-karton-obcina-grosuplje-126/
LOCATION:Občina Grosuplje
CATEGORIES:Papir in karton
END:VEVENT
BEGIN:VEVENT
DTSTART;VALUE=DATE:20260529
DTEND;VALUE=DATE:20260530
DTSTAMP:20260420T235309
CREATED:20260417T090230Z
LAST-MODIFIED:20260417T090230Z
UID:10008179-1780012800-1780099199@jkpg.si
SUMMARY:Papir in karton - Občina Grosuplje
DESCRIPTION:KS Šmarje-Sap\, KS Grosuplje – brez industrijske cone pod slivniškim hribom
URL:https://jkpg.si/vrsta-odvoza/papir-in-karton-obcina-grosuplje-127/
LOCATION:Občina Grosuplje
CATEGORIES:Papir in karton
END:VEVENT
END:VCALENDAR