BEGIN:VCALENDAR
VERSION:2.0
PRODID:-//Javno komunalno podjetje Grosuplje - ECPv6.9.1//NONSGML v1.0//EN
CALSCALE:GREGORIAN
METHOD:PUBLISH
X-WR-CALNAME:Javno komunalno podjetje Grosuplje
X-ORIGINAL-URL:https://jkpg.si
X-WR-CALDESC:Dogodki za Javno komunalno podjetje Grosuplje
REFRESH-INTERVAL;VALUE=DURATION:PT1H
X-Robots-Tag:noindex
X-PUBLISHED-TTL:PT1H
BEGIN:VTIMEZONE
TZID:Europe/Ljubljana
BEGIN:DAYLIGHT
TZOFFSETFROM:+0100
TZOFFSETTO:+0200
TZNAME:CEST
DTSTART:20260329T010000
END:DAYLIGHT
BEGIN:STANDARD
TZOFFSETFROM:+0200
TZOFFSETTO:+0100
TZNAME:CET
DTSTART:20261025T010000
END:STANDARD
END:VTIMEZONE
BEGIN:VEVENT
DTSTART;TZID=Europe/Ljubljana:20260509T073000
DTEND;TZID=Europe/Ljubljana:20260509T080000
DTSTAMP:20260421T051756
CREATED:20260417T074917Z
LAST-MODIFIED:20260417T074917Z
UID:10008093-1778311800-1778313600@jkpg.si
SUMMARY:Odpadna električna in elektronska oprema - Občina Ivančna Gorica
DESCRIPTION:STRUGE – Parkirišče pred avtobusno postajo
URL:https://jkpg.si/vrsta-odvoza/odpadna-elektricna-in-elektronska-oprema-obcina-ivancna-gorica-22/
LOCATION:Občina Ivančna Gorica
CATEGORIES:Odpadna električna in elektronska oprema
END:VEVENT
BEGIN:VEVENT
DTSTART;TZID=Europe/Ljubljana:20260509T081500
DTEND;TZID=Europe/Ljubljana:20260509T084500
DTSTAMP:20260421T051756
CREATED:20260417T074917Z
LAST-MODIFIED:20260417T074917Z
UID:10008094-1778314500-1778316300@jkpg.si
SUMMARY:Odpadna električna in elektronska oprema - Občina Ivančna Gorica
DESCRIPTION:KOMPOLJE – Parkirišče pri gasilskem domu
URL:https://jkpg.si/vrsta-odvoza/odpadna-elektricna-in-elektronska-oprema-obcina-ivancna-gorica-23/
LOCATION:Občina Ivančna Gorica
CATEGORIES:Odpadna električna in elektronska oprema
END:VEVENT
BEGIN:VEVENT
DTSTART;TZID=Europe/Ljubljana:20260509T090000
DTEND;TZID=Europe/Ljubljana:20260509T091500
DTSTAMP:20260421T051756
CREATED:20260417T074917Z
LAST-MODIFIED:20260417T074917Z
UID:10008095-1778317200-1778318100@jkpg.si
SUMMARY:Odpadna električna in elektronska oprema - Občina Ivančna Gorica
DESCRIPTION:ZAGORICA – parkirišče pri starem igrišču
URL:https://jkpg.si/vrsta-odvoza/odpadna-elektricna-in-elektronska-oprema-obcina-ivancna-gorica-24/
LOCATION:Občina Ivančna Gorica
CATEGORIES:Odpadna električna in elektronska oprema
END:VEVENT
BEGIN:VEVENT
DTSTART;TZID=Europe/Ljubljana:20260509T094500
DTEND;TZID=Europe/Ljubljana:20260509T101500
DTSTAMP:20260421T051756
CREATED:20260417T074917Z
LAST-MODIFIED:20260417T074917Z
UID:10008096-1778319900-1778321700@jkpg.si
SUMMARY:Odpadna električna in elektronska oprema - Občina Ivančna Gorica
DESCRIPTION:PONIKVE – Parkirišče pri gasilskem domu
URL:https://jkpg.si/vrsta-odvoza/odpadna-elektricna-in-elektronska-oprema-obcina-ivancna-gorica-25/
LOCATION:Občina Ivančna Gorica
CATEGORIES:Odpadna električna in elektronska oprema
END:VEVENT
BEGIN:VEVENT
DTSTART;TZID=Europe/Ljubljana:20260509T103000
DTEND;TZID=Europe/Ljubljana:20260509T110000
DTSTAMP:20260421T051756
CREATED:20260417T074933Z
LAST-MODIFIED:20260417T074933Z
UID:10008097-1778322600-1778324400@jkpg.si
SUMMARY:Odpadna električna in elektronska oprema - Občina Ivančna Gorica
DESCRIPTION:PREDSTRUGE – parkirišče nasproti Iskre
URL:https://jkpg.si/vrsta-odvoza/odpadna-elektricna-in-elektronska-oprema-obcina-ivancna-gorica-26/
LOCATION:Občina Ivančna Gorica
CATEGORIES:Odpadna električna in elektronska oprema
END:VEVENT
BEGIN:VEVENT
DTSTART;TZID=Europe/Ljubljana:20260509T111500
DTEND;TZID=Europe/Ljubljana:20260509T113000
DTSTAMP:20260421T051756
CREATED:20260417T074933Z
LAST-MODIFIED:20260417T074933Z
UID:10008098-1778325300-1778326200@jkpg.si
SUMMARY:Odpadna električna in elektronska oprema - Občina Ivančna Gorica
DESCRIPTION:CESTA – prostor na igrišču
URL:https://jkpg.si/vrsta-odvoza/odpadna-elektricna-in-elektronska-oprema-obcina-ivancna-gorica-27/
LOCATION:Občina Ivančna Gorica
CATEGORIES:Odpadna električna in elektronska oprema
END:VEVENT
BEGIN:VEVENT
DTSTART;TZID=Europe/Ljubljana:20260509T114500
DTEND;TZID=Europe/Ljubljana:20260509T121500
DTSTAMP:20260421T051756
CREATED:20260417T074933Z
LAST-MODIFIED:20260417T074933Z
UID:10008099-1778327100-1778328900@jkpg.si
SUMMARY:Odpadna električna in elektronska oprema - Občina Ivančna Gorica
DESCRIPTION:VIDEM – Parkirišče pri gasilskem domu
URL:https://jkpg.si/vrsta-odvoza/odpadna-elektricna-in-elektronska-oprema-obcina-ivancna-gorica-28/
LOCATION:Občina Ivančna Gorica
CATEGORIES:Odpadna električna in elektronska oprema
END:VEVENT
BEGIN:VEVENT
DTSTART;TZID=Europe/Ljubljana:20260509T123000
DTEND;TZID=Europe/Ljubljana:20260509T124500
DTSTAMP:20260421T051756
CREATED:20260417T074933Z
LAST-MODIFIED:20260417T074933Z
UID:10008100-1778329800-1778330700@jkpg.si
SUMMARY:Odpadna električna in elektronska oprema - Občina Ivančna Gorica
DESCRIPTION:ZDENSKA VAS – Parkirišče pri gasilskem domu
URL:https://jkpg.si/vrsta-odvoza/odpadna-elektricna-in-elektronska-oprema-obcina-ivancna-gorica-29/
LOCATION:Občina Ivančna Gorica
CATEGORIES:Odpadna električna in elektronska oprema
END:VEVENT
BEGIN:VEVENT
DTSTART;TZID=Europe/Ljubljana:20260509T130000
DTEND;TZID=Europe/Ljubljana:20260509T131500
DTSTAMP:20260421T051756
CREATED:20260417T074933Z
LAST-MODIFIED:20260417T074933Z
UID:10008101-1778331600-1778332500@jkpg.si
SUMMARY:Odpadna električna in elektronska oprema - Občina Ivančna Gorica
DESCRIPTION:HOČEVJE – Parkirišče pri gasilskem domu
URL:https://jkpg.si/vrsta-odvoza/odpadna-elektricna-in-elektronska-oprema-obcina-ivancna-gorica-30/
LOCATION:Občina Ivančna Gorica
CATEGORIES:Odpadna električna in elektronska oprema
END:VEVENT
END:VCALENDAR