BEGIN:VCALENDAR
VERSION:2.0
PRODID:-//Javno komunalno podjetje Grosuplje - ECPv6.9.1//NONSGML v1.0//EN
CALSCALE:GREGORIAN
METHOD:PUBLISH
X-WR-CALNAME:Javno komunalno podjetje Grosuplje
X-ORIGINAL-URL:https://jkpg.si
X-WR-CALDESC:Dogodki za Javno komunalno podjetje Grosuplje
REFRESH-INTERVAL;VALUE=DURATION:PT1H
X-Robots-Tag:noindex
X-PUBLISHED-TTL:PT1H
BEGIN:VTIMEZONE
TZID:Europe/Ljubljana
BEGIN:DAYLIGHT
TZOFFSETFROM:+0100
TZOFFSETTO:+0200
TZNAME:CEST
DTSTART:20260329T010000
END:DAYLIGHT
BEGIN:STANDARD
TZOFFSETFROM:+0200
TZOFFSETTO:+0100
TZNAME:CET
DTSTART:20261025T010000
END:STANDARD
END:VTIMEZONE
BEGIN:VEVENT
DTSTART;VALUE=DATE:20260511
DTEND;VALUE=DATE:20260512
DTSTAMP:20260421T052537
CREATED:20260417T075134Z
LAST-MODIFIED:20260417T075134Z
UID:10008103-1778457600-1778543999@jkpg.si
SUMMARY:Biološki odpadki - Občina Ivančna Gorica
DESCRIPTION:KS Dob\, KS Šentvid\, KS Stična\, KS Metnaj\, KS Muljava\, KS Krka\, KS Zagradec\, KS Ambrus\, KS Sobtače\, KSTemenica\, KS Višnja Gora – okolica\, brez naselja Višnja Gora.
URL:https://jkpg.si/vrsta-odvoza/bioloski-odpadki-obcina-ivancna-gorica-63/
LOCATION:Občina Ivančna Gorica
CATEGORIES:Biološki odpadki
END:VEVENT
BEGIN:VEVENT
DTSTART;VALUE=DATE:20260512
DTEND;VALUE=DATE:20260513
DTSTAMP:20260421T052537
CREATED:20260417T075536Z
LAST-MODIFIED:20260417T075536Z
UID:10008112-1778544000-1778630399@jkpg.si
SUMMARY:Biološki odpadki - Občina Grosuplje
DESCRIPTION:Grosuplje; območje severno od Adamičeve c.\, Perovo\, Jerova vas in Brvace\, brez Metelkovih\, Kajuhovih\, Valavazorjevih dvorov in Preske
URL:https://jkpg.si/vrsta-odvoza/bioloski-odpadki-obcina-grosuplje-122/
LOCATION:Občina Grosuplje
CATEGORIES:Biološki odpadki
END:VEVENT
BEGIN:VEVENT
DTSTART;VALUE=DATE:20260513
DTEND;VALUE=DATE:20260514
DTSTAMP:20260421T052537
CREATED:20260417T075536Z
LAST-MODIFIED:20260417T075536Z
UID:10008114-1778630400-1778716799@jkpg.si
SUMMARY:Biološki odpadki - Občina Ivančna Gorica
DESCRIPTION:KS Ivančna Gorica\, KS Višnja Gora – naselja Višnja Gora
URL:https://jkpg.si/vrsta-odvoza/bioloski-odpadki-obcina-ivancna-gorica-64/
LOCATION:Občina Ivančna Gorica
CATEGORIES:Biološki odpadki
END:VEVENT
BEGIN:VEVENT
DTSTART;VALUE=DATE:20260514
DTEND;VALUE=DATE:20260515
DTSTAMP:20260421T052537
CREATED:20260417T075938Z
LAST-MODIFIED:20260417T075938Z
UID:10008121-1778716800-1778803199@jkpg.si
SUMMARY:Biološki odpadki - Občina Grosuplje
DESCRIPTION:Grosuplje; območje južno od Adamičeve c.\, Metelkovi\, Kajuhovi\, Valvazorjev dvor ter Preska\, KS Šmarje-Sap; Mali Vrh in Veliki vrh\, Tlake Zgornja Slivnica\, KS Polica-naselje Dole\, M. in V. Stara vas\, KS Spodnja Slivnica\, KS Grosuplje; naselje Gatina\, Sp. Blato\, Praproče\, Brezje pri Grosupljem\, Sončni Dvori\,  KS Polica
URL:https://jkpg.si/vrsta-odvoza/bioloski-odpadki-obcina-grosuplje-123/
LOCATION:Občina Grosuplje
CATEGORIES:Biološki odpadki
END:VEVENT
BEGIN:VEVENT
DTSTART;VALUE=DATE:20260514
DTEND;VALUE=DATE:20260515
DTSTAMP:20260421T052537
CREATED:20260417T075938Z
LAST-MODIFIED:20260417T075938Z
UID:10008122-1778716800-1778803199@jkpg.si
SUMMARY:Biološki odpadki - Občina Grosuplje
DESCRIPTION:KS Polica
URL:https://jkpg.si/vrsta-odvoza/bioloski-odpadki-obcina-grosuplje-124/
LOCATION:Občina Grosuplje
CATEGORIES:Biološki odpadki
END:VEVENT
BEGIN:VEVENT
DTSTART;VALUE=DATE:20260515
DTEND;VALUE=DATE:20260516
DTSTAMP:20260421T052537
CREATED:20260417T075938Z
LAST-MODIFIED:20260417T075938Z
UID:10008125-1778803200-1778889599@jkpg.si
SUMMARY:Biološki odpadki - Občina Dobrepolje
DESCRIPTION:Vsa naselja v občini
URL:https://jkpg.si/vrsta-odvoza/bioloski-odpadki-obcina-dobrepolje-36/
LOCATION:Občina Dobrepolje
CATEGORIES:Biološki odpadki
END:VEVENT
BEGIN:VEVENT
DTSTART;VALUE=DATE:20260515
DTEND;VALUE=DATE:20260516
DTSTAMP:20260421T052537
CREATED:20260417T080426Z
LAST-MODIFIED:20260417T080426Z
UID:10008127-1778803200-1778889599@jkpg.si
SUMMARY:Biološki odpadki - Občina Grosuplje
DESCRIPTION:KS Šmarje-Sap; Cikava\, Paradišče\, Sela pri Šmarju\, KS Št.Jurij\, KS Škocjan\, KS Mlačevo\, KS Žalna\, KS Račna
URL:https://jkpg.si/vrsta-odvoza/bioloski-odpadki-obcina-grosuplje-125/
LOCATION:Občina Grosuplje
CATEGORIES:Biološki odpadki
END:VEVENT
END:VCALENDAR