BEGIN:VCALENDAR
VERSION:2.0
PRODID:-//Javno komunalno podjetje Grosuplje - ECPv6.9.1//NONSGML v1.0//EN
CALSCALE:GREGORIAN
METHOD:PUBLISH
X-WR-CALNAME:Javno komunalno podjetje Grosuplje
X-ORIGINAL-URL:https://jkpg.si
X-WR-CALDESC:Dogodki za Javno komunalno podjetje Grosuplje
REFRESH-INTERVAL;VALUE=DURATION:PT1H
X-Robots-Tag:noindex
X-PUBLISHED-TTL:PT1H
BEGIN:VTIMEZONE
TZID:Europe/Ljubljana
BEGIN:DAYLIGHT
TZOFFSETFROM:+0100
TZOFFSETTO:+0200
TZNAME:CEST
DTSTART:20260329T010000
END:DAYLIGHT
BEGIN:STANDARD
TZOFFSETFROM:+0200
TZOFFSETTO:+0100
TZNAME:CET
DTSTART:20261025T010000
END:STANDARD
END:VTIMEZONE
BEGIN:VEVENT
DTSTART;VALUE=DATE:20260406
DTEND;VALUE=DATE:20260407
DTSTAMP:20260421T034446
CREATED:20260317T134139Z
LAST-MODIFIED:20260325T090005Z
UID:10007965-1775433600-1775519999@jkpg.si
SUMMARY:Biološki odpadki - Občina Ivančna Gorica
DESCRIPTION:KS Dob\, KS Šentvid\, KS Stična\, KS Metnaj\, KS Muljava\, KS Krka\, KS Zagradec\, KS Ambrus\, KS Sobtače\, KSTemenica\, KS Višnja Gora – okolica\, brez naselja Višnja Gora.
URL:https://jkpg.si/vrsta-odvoza/bioloski-odpadki-obcina-ivancna-gorica-53/
LOCATION:Občina Ivančna Gorica
CATEGORIES:Biološki odpadki
END:VEVENT
BEGIN:VEVENT
DTSTART;VALUE=DATE:20260407
DTEND;VALUE=DATE:20260408
DTSTAMP:20260421T034446
CREATED:20260317T134154Z
LAST-MODIFIED:20260325T090123Z
UID:10007969-1775520000-1775606399@jkpg.si
SUMMARY:Biološki odpadki - Občina Grosuplje
DESCRIPTION:Grosuplje; območje severno od Adamičeve c.\, Perovo\, Jerova vas in Brvace\, brez Metelkovih\, Kajuhovih\, Valavazorjevih dvorov in Preske
URL:https://jkpg.si/vrsta-odvoza/bioloski-odpadki-obcina-grosuplje-102/
LOCATION:Občina Grosuplje
CATEGORIES:Biološki odpadki
END:VEVENT
BEGIN:VEVENT
DTSTART;VALUE=DATE:20260408
DTEND;VALUE=DATE:20260409
DTSTAMP:20260421T034446
CREATED:20260317T134240Z
LAST-MODIFIED:20260325T090139Z
UID:10007974-1775606400-1775692799@jkpg.si
SUMMARY:Biološki odpadki - Občina Ivančna Gorica
DESCRIPTION:KS Ivančna Gorica\, KS Višnja Gora – naselja Višnja Gora
URL:https://jkpg.si/vrsta-odvoza/bioloski-odpadki-obcina-ivancna-gorica-54/
LOCATION:Občina Ivančna Gorica
CATEGORIES:Biološki odpadki
END:VEVENT
BEGIN:VEVENT
DTSTART;VALUE=DATE:20260409
DTEND;VALUE=DATE:20260410
DTSTAMP:20260421T034446
CREATED:20260317T134259Z
LAST-MODIFIED:20260325T090308Z
UID:10007978-1775692800-1775779199@jkpg.si
SUMMARY:Biološki odpadki - Občina Grosuplje
DESCRIPTION:KS Polica
URL:https://jkpg.si/vrsta-odvoza/bioloski-odpadki-obcina-grosuplje-103/
LOCATION:Občina Grosuplje
CATEGORIES:Biološki odpadki
END:VEVENT
BEGIN:VEVENT
DTSTART;VALUE=DATE:20260409
DTEND;VALUE=DATE:20260410
DTSTAMP:20260421T034446
CREATED:20260317T134259Z
LAST-MODIFIED:20260317T134259Z
UID:10007979-1775692800-1775779199@jkpg.si
SUMMARY:Biološki odpadki - Občina Grosuplje
DESCRIPTION:KS Polica
URL:https://jkpg.si/vrsta-odvoza/bioloski-odpadki-obcina-grosuplje-104/
LOCATION:Občina Grosuplje
CATEGORIES:Biološki odpadki
END:VEVENT
BEGIN:VEVENT
DTSTART;VALUE=DATE:20260410
DTEND;VALUE=DATE:20260411
DTSTAMP:20260421T034446
CREATED:20260317T134500Z
LAST-MODIFIED:20260325T090323Z
UID:10007984-1775779200-1775865599@jkpg.si
SUMMARY:Biološki odpadki - Občina Dobrepolje
DESCRIPTION:Vsa naselja v občini
URL:https://jkpg.si/vrsta-odvoza/bioloski-odpadki-obcina-dobrepolje-31/
LOCATION:Občina Dobrepolje
CATEGORIES:Biološki odpadki
END:VEVENT
BEGIN:VEVENT
DTSTART;VALUE=DATE:20260410
DTEND;VALUE=DATE:20260411
DTSTAMP:20260421T034446
CREATED:20260317T134700Z
LAST-MODIFIED:20260325T090404Z
UID:10007985-1775779200-1775865599@jkpg.si
SUMMARY:Biološki odpadki - Občina Grosuplje
DESCRIPTION:KS Šmarje-Sap; Cikava\, Paradišče\, Sela pri Šmarju\, KS Št.Jurij\, KS Škocjan\, KS Mlačevo\, KS Žalna\, KS Račna
URL:https://jkpg.si/vrsta-odvoza/bioloski-odpadki-obcina-grosuplje-105/
LOCATION:Občina Grosuplje
CATEGORIES:Biološki odpadki
END:VEVENT
END:VCALENDAR