BEGIN:VCALENDAR
VERSION:2.0
PRODID:-//Javno komunalno podjetje Grosuplje - ECPv6.9.1//NONSGML v1.0//EN
CALSCALE:GREGORIAN
METHOD:PUBLISH
X-ORIGINAL-URL:https://jkpg.si
X-WR-CALDESC:Dogodki za Javno komunalno podjetje Grosuplje
REFRESH-INTERVAL;VALUE=DURATION:PT1H
X-Robots-Tag:noindex
X-PUBLISHED-TTL:PT1H
BEGIN:VTIMEZONE
TZID:Europe/Ljubljana
BEGIN:DAYLIGHT
TZOFFSETFROM:+0100
TZOFFSETTO:+0200
TZNAME:CEST
DTSTART:20260329T010000
END:DAYLIGHT
BEGIN:STANDARD
TZOFFSETFROM:+0200
TZOFFSETTO:+0100
TZNAME:CET
DTSTART:20261025T010000
END:STANDARD
END:VTIMEZONE
BEGIN:VEVENT
DTSTART;VALUE=DATE:20260323
DTEND;VALUE=DATE:20260324
DTSTAMP:20260421T064320
CREATED:20260218T072900Z
LAST-MODIFIED:20260218T102609Z
UID:10007732-1774224000-1774310399@jkpg.si
SUMMARY:Biološki odpadki - Občina Ivančna Gorica
DESCRIPTION:KS Dob\, KS Šentvid\, KS Stična\, KS Metnaj\, KS Muljava\, KS Krka\, KS Zagradec\, KS Ambrus\, KS Sobtače\, KSTemenica\, KS Višnja Gora – okolica\, brez naselja Višnja Gora.
URL:https://jkpg.si/vrsta-odvoza/bioloski-odpadki-obcina-ivancna-gorica-40/
LOCATION:Občina Ivančna Gorica
CATEGORIES:Biološki odpadki
END:VEVENT
BEGIN:VEVENT
DTSTART;VALUE=DATE:20260324
DTEND;VALUE=DATE:20260325
DTSTAMP:20260421T064320
CREATED:20260218T072900Z
LAST-MODIFIED:20260218T102609Z
UID:10007736-1774310400-1774396799@jkpg.si
SUMMARY:Biološki odpadki - Občina Grosuplje
DESCRIPTION:Grosuplje; območje severno od Adamičeve c.\, Perovo\, Jerova vas in Brvace\, brez Metelkovih\, Kajuhovih\, Valavazorjevih dvorov in Preske
URL:https://jkpg.si/vrsta-odvoza/bioloski-odpadki-obcina-grosuplje-77/
LOCATION:Občina Grosuplje
CATEGORIES:Biološki odpadki
END:VEVENT
BEGIN:VEVENT
DTSTART;VALUE=DATE:20260325
DTEND;VALUE=DATE:20260326
DTSTAMP:20260421T064320
CREATED:20260218T072905Z
LAST-MODIFIED:20260218T102642Z
UID:10007741-1774396800-1774483199@jkpg.si
SUMMARY:Biološki odpadki - Občina Ivančna Gorica
DESCRIPTION:KS Ivančna Gorica\, KS Višnja Gora – naselja Višnja Gora
URL:https://jkpg.si/vrsta-odvoza/bioloski-odpadki-obcina-ivancna-gorica-41/
LOCATION:Občina Ivančna Gorica
CATEGORIES:Biološki odpadki
END:VEVENT
BEGIN:VEVENT
DTSTART;VALUE=DATE:20260326
DTEND;VALUE=DATE:20260327
DTSTAMP:20260421T064320
CREATED:20260218T072916Z
LAST-MODIFIED:20260218T102744Z
UID:10007746-1774483200-1774569599@jkpg.si
SUMMARY:Biološki odpadki - Občina Grosuplje
DESCRIPTION:KS Polica
URL:https://jkpg.si/vrsta-odvoza/bioloski-odpadki-obcina-grosuplje-78/
LOCATION:Občina Grosuplje
CATEGORIES:Biološki odpadki
END:VEVENT
BEGIN:VEVENT
DTSTART;VALUE=DATE:20260327
DTEND;VALUE=DATE:20260328
DTSTAMP:20260421T064320
CREATED:20260218T072932Z
LAST-MODIFIED:20260218T102802Z
UID:10007752-1774569600-1774655999@jkpg.si
SUMMARY:Biološki odpadki - Občina Grosuplje
DESCRIPTION:KS Šmarje-Sap; Cikava\, Paradišče\, Sela pri Šmarju\, KS Št.Jurij\, KS Škocjan\, KS Mlačevo\, KS Žalna\, KS Račna
URL:https://jkpg.si/vrsta-odvoza/bioloski-odpadki-obcina-grosuplje-79/
LOCATION:Občina Grosuplje
CATEGORIES:Biološki odpadki
END:VEVENT
BEGIN:VEVENT
DTSTART;VALUE=DATE:20260327
DTEND;VALUE=DATE:20260328
DTSTAMP:20260421T064320
CREATED:20260218T072932Z
LAST-MODIFIED:20260218T102801Z
UID:10007751-1774569600-1774655999@jkpg.si
SUMMARY:Biološki odpadki - Občina Dobrepolje
DESCRIPTION:Vsa naselja v občini
URL:https://jkpg.si/vrsta-odvoza/bioloski-odpadki-obcina-dobrepolje-25/
LOCATION:Občina Dobrepolje
CATEGORIES:Biološki odpadki
END:VEVENT
END:VCALENDAR