BEGIN:VCALENDAR
VERSION:2.0
PRODID:-//Javno komunalno podjetje Grosuplje - ECPv6.9.1//NONSGML v1.0//EN
CALSCALE:GREGORIAN
METHOD:PUBLISH
X-ORIGINAL-URL:https://jkpg.si
X-WR-CALDESC:Dogodki za Javno komunalno podjetje Grosuplje
REFRESH-INTERVAL;VALUE=DURATION:PT1H
X-Robots-Tag:noindex
X-PUBLISHED-TTL:PT1H
BEGIN:VTIMEZONE
TZID:Europe/Ljubljana
BEGIN:DAYLIGHT
TZOFFSETFROM:+0100
TZOFFSETTO:+0200
TZNAME:CEST
DTSTART:20260329T010000
END:DAYLIGHT
BEGIN:STANDARD
TZOFFSETFROM:+0200
TZOFFSETTO:+0100
TZNAME:CET
DTSTART:20261025T010000
END:STANDARD
END:VTIMEZONE
BEGIN:VEVENT
DTSTART;VALUE=DATE:20260429
DTEND;VALUE=DATE:20260430
DTSTAMP:20260420T204600
CREATED:20260325T092708Z
LAST-MODIFIED:20260325T092708Z
UID:10008052-1777420800-1777507199@jkpg.si
SUMMARY:Biološki odpadki - Občina Ivančna Gorica
DESCRIPTION:KS Ivančna Gorica\, KS Višnja Gora – naselja Višnja Gora
URL:https://jkpg.si/vrsta-odvoza/bioloski-odpadki-obcina-ivancna-gorica-60/
LOCATION:Občina Ivančna Gorica
CATEGORIES:Biološki odpadki
END:VEVENT
END:VCALENDAR