BEGIN:VCALENDAR
VERSION:2.0
PRODID:-//Javno komunalno podjetje Grosuplje - ECPv6.9.1//NONSGML v1.0//EN
CALSCALE:GREGORIAN
METHOD:PUBLISH
X-WR-CALNAME:Javno komunalno podjetje Grosuplje
X-ORIGINAL-URL:https://jkpg.si
X-WR-CALDESC:Dogodki za Javno komunalno podjetje Grosuplje
REFRESH-INTERVAL;VALUE=DURATION:PT1H
X-Robots-Tag:noindex
X-PUBLISHED-TTL:PT1H
BEGIN:VTIMEZONE
TZID:Europe/Ljubljana
BEGIN:DAYLIGHT
TZOFFSETFROM:+0100
TZOFFSETTO:+0200
TZNAME:CEST
DTSTART:20260329T010000
END:DAYLIGHT
BEGIN:STANDARD
TZOFFSETFROM:+0200
TZOFFSETTO:+0100
TZNAME:CET
DTSTART:20261025T010000
END:STANDARD
END:VTIMEZONE
BEGIN:VEVENT
DTSTART;VALUE=DATE:20260511
DTEND;VALUE=DATE:20260512
DTSTAMP:20260420T184251
CREATED:20260417T075134Z
LAST-MODIFIED:20260417T075134Z
UID:10008103-1778457600-1778543999@jkpg.si
SUMMARY:Biološki odpadki - Občina Ivančna Gorica
DESCRIPTION:KS Dob\, KS Šentvid\, KS Stična\, KS Metnaj\, KS Muljava\, KS Krka\, KS Zagradec\, KS Ambrus\, KS Sobtače\, KSTemenica\, KS Višnja Gora – okolica\, brez naselja Višnja Gora.
URL:https://jkpg.si/vrsta-odvoza/bioloski-odpadki-obcina-ivancna-gorica-63/
LOCATION:Občina Ivančna Gorica
CATEGORIES:Biološki odpadki
END:VEVENT
BEGIN:VEVENT
DTSTART;VALUE=DATE:20260511
DTEND;VALUE=DATE:20260512
DTSTAMP:20260420T184251
CREATED:20260417T075134Z
LAST-MODIFIED:20260417T075134Z
UID:10008106-1778457600-1778543999@jkpg.si
SUMMARY:Mešana embalaža - Občina Grosuplje
DESCRIPTION:Grosuplje; območje severno od Adamičeve c. in zahodno od potoka Grosupeljščica ter naselje Brvace.
URL:https://jkpg.si/vrsta-odvoza/mesana-embalaza-obcina-grosuplje-113/
LOCATION:Občina Grosuplje
CATEGORIES:Mešana embalaža
END:VEVENT
BEGIN:VEVENT
DTSTART;VALUE=DATE:20260511
DTEND;VALUE=DATE:20260512
DTSTAMP:20260420T184251
CREATED:20260417T075134Z
LAST-MODIFIED:20260417T075134Z
UID:10008104-1778457600-1778543999@jkpg.si
SUMMARY:Mešana embalaža - Občina Dobrepolje
DESCRIPTION:Vsa naselje v občini razen Hočevja
URL:https://jkpg.si/vrsta-odvoza/mesana-embalaza-obcina-dobrepolje-39/
LOCATION:Občina Dobrepolje
CATEGORIES:Mešana embalaža
END:VEVENT
BEGIN:VEVENT
DTSTART;VALUE=DATE:20260511
DTEND;VALUE=DATE:20260512
DTSTAMP:20260420T184251
CREATED:20260417T075134Z
LAST-MODIFIED:20260417T075134Z
UID:10008102-1778457600-1778543999@jkpg.si
SUMMARY:Mešana embalaža - Občina Ivančna Gorica
DESCRIPTION:KS Ivančna Gorica\, brez naselja Spodnja Draga
URL:https://jkpg.si/vrsta-odvoza/mesana-embalaza-obcina-ivancna-gorica-99/
LOCATION:Občina Ivančna Gorica
CATEGORIES:Mešana embalaža
END:VEVENT
BEGIN:VEVENT
DTSTART;VALUE=DATE:20260511
DTEND;VALUE=DATE:20260512
DTSTAMP:20260420T184251
CREATED:20260417T075134Z
LAST-MODIFIED:20260417T075134Z
UID:10008105-1778457600-1778543999@jkpg.si
SUMMARY:Steklena embalaža - Občina Dobrepolje
DESCRIPTION:Občina Dobrepolje
URL:https://jkpg.si/vrsta-odvoza/steklena-embalaza-obcina-dobrepolje-21/
LOCATION:Občina Dobrepolje
CATEGORIES:Steklena embalaža
END:VEVENT
BEGIN:VEVENT
DTSTART;VALUE=DATE:20260511
DTEND;VALUE=DATE:20260512
DTSTAMP:20260420T184251
CREATED:20260417T075335Z
LAST-MODIFIED:20260417T075335Z
UID:10008107-1778457600-1778543999@jkpg.si
SUMMARY:Papir in karton - Občina Grosuplje
DESCRIPTION:KS Grosuplje\, KS Šmarje-Sap
URL:https://jkpg.si/vrsta-odvoza/papir-in-karton-obcina-grosuplje-119/
LOCATION:Občina Grosuplje
CATEGORIES:Papir in karton
END:VEVENT
END:VCALENDAR