BEGIN:VCALENDAR
VERSION:2.0
PRODID:-//Javno komunalno podjetje Grosuplje - ECPv6.9.1//NONSGML v1.0//EN
CALSCALE:GREGORIAN
METHOD:PUBLISH
X-WR-CALNAME:Javno komunalno podjetje Grosuplje
X-ORIGINAL-URL:https://jkpg.si
X-WR-CALDESC:Dogodki za Javno komunalno podjetje Grosuplje
REFRESH-INTERVAL;VALUE=DURATION:PT1H
X-Robots-Tag:noindex
X-PUBLISHED-TTL:PT1H
BEGIN:VTIMEZONE
TZID:Europe/Ljubljana
BEGIN:DAYLIGHT
TZOFFSETFROM:+0100
TZOFFSETTO:+0200
TZNAME:CEST
DTSTART:20260329T010000
END:DAYLIGHT
BEGIN:STANDARD
TZOFFSETFROM:+0200
TZOFFSETTO:+0100
TZNAME:CET
DTSTART:20261025T010000
END:STANDARD
END:VTIMEZONE
BEGIN:VEVENT
DTSTART;VALUE=DATE:20260505
DTEND;VALUE=DATE:20260506
DTSTAMP:20260420T184240
CREATED:20260417T074754Z
LAST-MODIFIED:20260417T074754Z
UID:10008075-1777939200-1778025599@jkpg.si
SUMMARY:Steklena embalaža - Občina Ivančna Gorica
DESCRIPTION:Občina Ivančna Gorica
URL:https://jkpg.si/vrsta-odvoza/steklena-embalaza-obcina-ivancna-gorica-19/
LOCATION:Občina Ivančna Gorica
CATEGORIES:Steklena embalaža
END:VEVENT
BEGIN:VEVENT
DTSTART;VALUE=DATE:20260505
DTEND;VALUE=DATE:20260506
DTSTAMP:20260420T184240
CREATED:20260417T074754Z
LAST-MODIFIED:20260417T074754Z
UID:10008073-1777939200-1778025599@jkpg.si
SUMMARY:Preostanek odpadkov - Občina Dobrepolje
DESCRIPTION:Naselje Hočevje
URL:https://jkpg.si/vrsta-odvoza/preostanek-odpadkov-obcina-dobrepolje-38/
LOCATION:Občina Dobrepolje
CATEGORIES:Preostanek odpadkov
END:VEVENT
BEGIN:VEVENT
DTSTART;VALUE=DATE:20260505
DTEND;VALUE=DATE:20260506
DTSTAMP:20260420T184241
CREATED:20260417T074754Z
LAST-MODIFIED:20260417T074754Z
UID:10008076-1777939200-1778025599@jkpg.si
SUMMARY:Preostanek odpadkov - Občina Grosuplje
DESCRIPTION:Grosuplje; območje južno od Adamičeve ceste\, KS Polica –  Mala Stara vas in Velika Stara vas
URL:https://jkpg.si/vrsta-odvoza/preostanek-odpadkov-obcina-grosuplje-106/
LOCATION:Občina Grosuplje
CATEGORIES:Preostanek odpadkov
END:VEVENT
BEGIN:VEVENT
DTSTART;VALUE=DATE:20260505
DTEND;VALUE=DATE:20260506
DTSTAMP:20260420T184241
CREATED:20260417T074754Z
LAST-MODIFIED:20260417T074754Z
UID:10008074-1777939200-1778025599@jkpg.si
SUMMARY:Biološki odpadki - Občina Grosuplje
DESCRIPTION:Grosuplje; območje severno od Adamičeve c.\, Perovo\, Jerova vas in Brvace\, brez Metelkovih\, Kajuhovih\, Valavazorjevih dvorov in Preske
URL:https://jkpg.si/vrsta-odvoza/bioloski-odpadki-obcina-grosuplje-118/
LOCATION:Občina Grosuplje
CATEGORIES:Biološki odpadki
END:VEVENT
BEGIN:VEVENT
DTSTART;VALUE=DATE:20260505
DTEND;VALUE=DATE:20260506
DTSTAMP:20260420T184241
CREATED:20260417T074754Z
LAST-MODIFIED:20260417T074754Z
UID:10008072-1777939200-1778025599@jkpg.si
SUMMARY:Preostanek odpadkov - Občina Ivančna Gorica
DESCRIPTION:KS Ambrus\, KS Krka\, KS Višnja Gora\, KS Zagradec\, KS Muljava- brez naselij; Bojavni Vrh\, Velike in Male Kompolje\, Sušica in Trebež
URL:https://jkpg.si/vrsta-odvoza/preostanek-odpadkov-obcina-ivancna-gorica-94/
LOCATION:Občina Ivančna Gorica
CATEGORIES:Preostanek odpadkov
END:VEVENT
END:VCALENDAR