BEGIN:VCALENDAR
VERSION:2.0
PRODID:-//Javno komunalno podjetje Grosuplje - ECPv6.9.1//NONSGML v1.0//EN
CALSCALE:GREGORIAN
METHOD:PUBLISH
X-WR-CALNAME:Javno komunalno podjetje Grosuplje
X-ORIGINAL-URL:https://jkpg.si
X-WR-CALDESC:Dogodki za Javno komunalno podjetje Grosuplje
REFRESH-INTERVAL;VALUE=DURATION:PT1H
X-Robots-Tag:noindex
X-PUBLISHED-TTL:PT1H
BEGIN:VTIMEZONE
TZID:Europe/Ljubljana
BEGIN:DAYLIGHT
TZOFFSETFROM:+0100
TZOFFSETTO:+0200
TZNAME:CEST
DTSTART:20260329T010000
END:DAYLIGHT
BEGIN:STANDARD
TZOFFSETFROM:+0200
TZOFFSETTO:+0100
TZNAME:CET
DTSTART:20261025T010000
END:STANDARD
END:VTIMEZONE
BEGIN:VEVENT
DTSTART;VALUE=DATE:20260420
DTEND;VALUE=DATE:20260421
DTSTAMP:20260420T170712
CREATED:20260317T140028Z
LAST-MODIFIED:20260325T091415Z
UID:10008014-1776643200-1776729599@jkpg.si
SUMMARY:Preostanek odpadkov - Občina Ivančna Gorica
DESCRIPTION:KS Ivančna Gorica\, brez naselja Spodnja Draga
URL:https://jkpg.si/vrsta-odvoza/preostanek-odpadkov-obcina-ivancna-gorica-88/
LOCATION:Občina Ivančna Gorica
CATEGORIES:Preostanek odpadkov
END:VEVENT
BEGIN:VEVENT
DTSTART;VALUE=DATE:20260420
DTEND;VALUE=DATE:20260421
DTSTAMP:20260420T170712
CREATED:20260317T140045Z
LAST-MODIFIED:20260325T091615Z
UID:10008015-1776643200-1776729599@jkpg.si
SUMMARY:Preostanek odpadkov - Občina Dobrepolje
DESCRIPTION:Vsa naselje v občini razen Hočevja
URL:https://jkpg.si/vrsta-odvoza/preostanek-odpadkov-obcina-dobrepolje-35/
LOCATION:Občina Dobrepolje
CATEGORIES:Preostanek odpadkov
END:VEVENT
BEGIN:VEVENT
DTSTART;VALUE=DATE:20260420
DTEND;VALUE=DATE:20260421
DTSTAMP:20260420T170712
CREATED:20260317T140045Z
LAST-MODIFIED:20260325T091615Z
UID:10008018-1776643200-1776729599@jkpg.si
SUMMARY:Papir in karton - Občina Grosuplje
DESCRIPTION:KS Grosuplje\, KS Šmarje-Sap
URL:https://jkpg.si/vrsta-odvoza/papir-in-karton-obcina-grosuplje-110/
LOCATION:Občina Grosuplje
CATEGORIES:Papir in karton
END:VEVENT
BEGIN:VEVENT
DTSTART;VALUE=DATE:20260420
DTEND;VALUE=DATE:20260421
DTSTAMP:20260420T170712
CREATED:20260317T140045Z
LAST-MODIFIED:20260325T091615Z
UID:10008016-1776643200-1776729599@jkpg.si
SUMMARY:Preostanek odpadkov - Občina Grosuplje
DESCRIPTION:Grosuplje; območje severno od Adamičeve c. in zahodno od potoka Grosupeljščica ter naselje Brvace
URL:https://jkpg.si/vrsta-odvoza/preostanek-odpadkov-obcina-grosuplje-99/
LOCATION:Občina Grosuplje
CATEGORIES:Preostanek odpadkov
END:VEVENT
BEGIN:VEVENT
DTSTART;VALUE=DATE:20260420
DTEND;VALUE=DATE:20260421
DTSTAMP:20260420T170712
CREATED:20260317T140045Z
LAST-MODIFIED:20260325T091615Z
UID:10008017-1776643200-1776729599@jkpg.si
SUMMARY:Biološki odpadki - Občina Ivančna Gorica
DESCRIPTION:KS Dob\, KS Šentvid\, KS Stična\, KS Metnaj\, KS Muljava\, KS Krka\, KS Zagradec\, KS Ambrus\, KS Sobtače\, KSTemenica\, KS Višnja Gora – okolica\, brez naselja Višnja Gora.
URL:https://jkpg.si/vrsta-odvoza/bioloski-odpadki-obcina-ivancna-gorica-57/
LOCATION:Občina Ivančna Gorica
CATEGORIES:Biološki odpadki
END:VEVENT
END:VCALENDAR